BEGIN:VCALENDAR
VERSION:2.0
PRODID:-//延岡史談会 - ECPv6.13.1//NONSGML v1.0//EN
CALSCALE:GREGORIAN
METHOD:PUBLISH
X-WR-CALNAME:延岡史談会
X-ORIGINAL-URL:https://nobeoka-shidankai.com
X-WR-CALDESC:延岡史談会 のイベント
REFRESH-INTERVAL;VALUE=DURATION:PT1H
X-Robots-Tag:noindex
X-PUBLISHED-TTL:PT1H
BEGIN:VTIMEZONE
TZID:Asia/Tokyo
BEGIN:STANDARD
TZOFFSETFROM:+0900
TZOFFSETTO:+0900
TZNAME:JST
DTSTART:20240101T000000
END:STANDARD
END:VTIMEZONE
BEGIN:VEVENT
DTSTART;TZID=Asia/Tokyo:20241019T130000
DTEND;TZID=Asia/Tokyo:20241019T160000
DTSTAMP:20260425T215246
CREATED:20240930T072102Z
LAST-MODIFIED:20241130T112811Z
UID:794-1729342800-1729353600@nobeoka-shidankai.com
SUMMARY:第2回北浦図師家襖文書委員会
DESCRIPTION:前回の剥離積み残し作業班と今日初めて参加する解体～ \n文書剥がし作業班の2班に分かれて行いました。資料カードの作成までを予定時間内に終える事ができ、たいへん充実した研修となりました。下張り文書には蛸、紅葉子(タラコ)、さば、あじ、平目、ふか(サメ)など海浜の北浦町に立地した図師家に相応しい海産物が記録されており、墨書きとペン書きの混在した近代の海産物取引記録横帳が主です。
URL:https://nobeoka-shidankai.com/event/%e7%ac%ac2%e5%9b%9e%e5%8c%97%e6%b5%a6%e5%9b%b3%e5%b8%ab%e5%ae%b6%e8%a5%96%e6%96%87%e6%9b%b8%e5%a7%94%e5%93%a1%e4%bc%9a/
LOCATION:延岡市社会教育センター3階研修室4\, 延岡市本小路39番地1\, 延岡市\, 日本
ORGANIZER;CN="%E5%8F%B2%E8%AB%87%E4%BC%9A":MAILTO:purelatitude0728@gmail.com
END:VEVENT
BEGIN:VEVENT
DTSTART;TZID=Asia/Tokyo:20241016T153000
DTEND;TZID=Asia/Tokyo:20241016T180000
DTSTAMP:20260425T215246
CREATED:20240930T071925Z
LAST-MODIFIED:20241130T112433Z
UID:791-1729092600-1729101600@nobeoka-shidankai.com
SUMMARY:第1回北浦図師家襖文書委員会
DESCRIPTION:宮崎歴史資料ネットワーク、九州医療科学大学(延岡市)の山内准教授から下張り文書剥がしの作業手順と留意点についてのレクチャーを受けた後に、屏風の解体、表紙(おもてがみ)外し、下貼り文書剥がしを実施しました。 \n皆さん和気あいあいと初めての作業を真剣に取り組んでいました。 \nそれにしてもかつては日本全国どこでも行われていたであろうこの屏風のような職人さんの手仕事が廃れてしまったのはつくづく惜しまれます。
URL:https://nobeoka-shidankai.com/event/%e7%ac%ac1%e5%9b%9e%e5%8c%97%e6%b5%a6%e5%9b%b3%e5%b8%ab%e5%ae%b6%e8%a5%96%e6%96%87%e6%9b%b8%e5%a7%94%e5%93%a1%e4%bc%9a/
LOCATION:延岡市社会教育センター3階研修室4\, 延岡市本小路39番地1\, 延岡市\, 日本
ORGANIZER;CN="%E5%8F%B2%E8%AB%87%E4%BC%9A":MAILTO:purelatitude0728@gmail.com
END:VEVENT
END:VCALENDAR