BEGIN:VCALENDAR
VERSION:2.0
PRODID:-//延岡史談会 - ECPv6.13.1//NONSGML v1.0//EN
CALSCALE:GREGORIAN
METHOD:PUBLISH
X-ORIGINAL-URL:https://nobeoka-shidankai.com
X-WR-CALDESC:延岡史談会 のイベント
REFRESH-INTERVAL;VALUE=DURATION:PT1H
X-Robots-Tag:noindex
X-PUBLISHED-TTL:PT1H
BEGIN:VTIMEZONE
TZID:Asia/Tokyo
BEGIN:STANDARD
TZOFFSETFROM:+0900
TZOFFSETTO:+0900
TZNAME:JST
DTSTART:20250101T000000
END:STANDARD
END:VTIMEZONE
BEGIN:VEVENT
DTSTART;TZID=Asia/Tokyo:20251214T100000
DTEND;TZID=Asia/Tokyo:20251214T113000
DTSTAMP:20260425T222905
CREATED:20250817T095530Z
LAST-MODIFIED:20250817T095642Z
UID:1443-1765706400-1765711800@nobeoka-shidankai.com
SUMMARY:和７年度　第９回定例役員会
DESCRIPTION:
URL:https://nobeoka-shidankai.com/event/%e5%92%8c%ef%bc%97%e5%b9%b4%e5%ba%a6%e3%80%80%e7%ac%ac%ef%bc%99%e5%9b%9e%e5%ae%9a%e4%be%8b%e5%bd%b9%e5%93%a1%e4%bc%9a/
LOCATION:延岡市民協働まちづくりセンター\, 東本小路131番地5\, 延岡市\, 宮崎県\, Japan
END:VEVENT
END:VCALENDAR