BEGIN:VCALENDAR
VERSION:2.0
PRODID:-//延岡史談会 - ECPv6.13.1//NONSGML v1.0//EN
CALSCALE:GREGORIAN
METHOD:PUBLISH
X-WR-CALNAME:延岡史談会
X-ORIGINAL-URL:https://nobeoka-shidankai.com
X-WR-CALDESC:延岡史談会 のイベント
REFRESH-INTERVAL;VALUE=DURATION:PT1H
X-Robots-Tag:noindex
X-PUBLISHED-TTL:PT1H
BEGIN:VTIMEZONE
TZID:Asia/Tokyo
BEGIN:STANDARD
TZOFFSETFROM:+0900
TZOFFSETTO:+0900
TZNAME:JST
DTSTART:20240101T000000
END:STANDARD
END:VTIMEZONE
BEGIN:VEVENT
DTSTART;TZID=Asia/Tokyo:20240720T140000
DTEND;TZID=Asia/Tokyo:20240720T153000
DTSTAMP:20260426T062414
CREATED:20240816T071349Z
LAST-MODIFIED:20241130T121324Z
UID:462-1721484000-1721489400@nobeoka-shidankai.com
SUMMARY:第2回公開講演会
DESCRIPTION:講 師：宮田 卓郎 事務局長\n演 題：「神道ではない「かみ」を文 化史的観点から分析し、八幡神の北日向(延岡)勧請と、律令政府の大隅国経営との関係について考える」 \n参加者：40名(会員21名、一般19名)
URL:https://nobeoka-shidankai.com/event/%e7%ac%ac2%e5%9b%9e%e5%85%ac%e9%96%8b%e8%ac%9b%e6%bc%94%e4%bc%9a/
LOCATION:延岡市社会教育センター\, 延岡市本小路39番地1\, 延岡市\, 宮崎県\, 882-0812\, 日本
ATTACH;FMTTYPE=image/jpeg:https://nobeoka-shidankai.com/wp-content/uploads/2024/08/20240720_151517-scaled.jpg
ORGANIZER;CN="%E5%8F%B2%E8%AB%87%E4%BC%9A":MAILTO:purelatitude0728@gmail.com
END:VEVENT
BEGIN:VEVENT
DTSTART;TZID=Asia/Tokyo:20240616T140000
DTEND;TZID=Asia/Tokyo:20240616T153000
DTSTAMP:20260426T062414
CREATED:20240816T071718Z
LAST-MODIFIED:20241130T121334Z
UID:465-1718546400-1718551800@nobeoka-shidankai.com
SUMMARY:第１回公開講演会
DESCRIPTION:講 師：甲斐 典明 会長\n演 題：「城下町延岡の原風景～1680年頃の延岡城下町と周辺の村々を訪ねる～」\n参加者：72名(会員45名、一般27名)。多くの一般の方々に参加いただきました。会員には12月1日に開催する「のべおかさるきブラアガタ第2弾」の事前研修を兼ねました。
URL:https://nobeoka-shidankai.com/event/%e7%ac%ac%ef%bc%91%e5%9b%9e%e5%85%ac%e9%96%8b%e8%ac%9b%e6%bc%94%e4%bc%9a/
LOCATION:延岡市社会教育センター\, 延岡市本小路39番地1\, 延岡市\, 宮崎県\, 882-0812\, 日本
ATTACH;FMTTYPE=image/png:https://nobeoka-shidankai.com/wp-content/uploads/2024/08/image.png
ORGANIZER;CN="%E5%8F%B2%E8%AB%87%E4%BC%9A":MAILTO:purelatitude0728@gmail.com
END:VEVENT
END:VCALENDAR