BEGIN:VCALENDAR
VERSION:2.0
PRODID:-//延岡史談会 - ECPv6.13.1//NONSGML v1.0//EN
CALSCALE:GREGORIAN
METHOD:PUBLISH
X-WR-CALNAME:延岡史談会
X-ORIGINAL-URL:https://nobeoka-shidankai.com
X-WR-CALDESC:延岡史談会 のイベント
REFRESH-INTERVAL;VALUE=DURATION:PT1H
X-Robots-Tag:noindex
X-PUBLISHED-TTL:PT1H
BEGIN:VTIMEZONE
TZID:Asia/Tokyo
BEGIN:STANDARD
TZOFFSETFROM:+0900
TZOFFSETTO:+0900
TZNAME:JST
DTSTART:20240101T000000
END:STANDARD
END:VTIMEZONE
BEGIN:VEVENT
DTSTART;TZID=Asia/Tokyo:20241020T140000
DTEND;TZID=Asia/Tokyo:20241020T153000
DTSTAMP:20260426T011643
CREATED:20240930T072223Z
LAST-MODIFIED:20241224T145601Z
UID:796-1729432800-1729438200@nobeoka-shidankai.com
SUMMARY:第4回公開講演会
DESCRIPTION:日　時：10月20日(土)14:00～15:30 \n会　場：延岡市社会教育センター１階第１研修室 \n講　師：小野　信彦　副会長 \n演　題：「物が語る交流史<北方⇔延岡>～旧石器時代から昭和まで～」 \n資料代：200円 \n後　援：宮崎日日新聞社、夕刊デイリー新聞社、 \nケーブルメディアワイワイ \n参加者：39名 \n本年度最後となる第４回公開講演会。一昨年、昭和的組織体制改正の一環として、延岡川中地域に偏りがちだった調査研究の対象地域を旧延岡藩領域の延岡・宮崎県北及び関連地域に定義し直し、 \n昨年は延岡藩領宮崎、延岡藩領高千穂の話題、今年度は北方・北川・北浦の三北から北方の話題を取り上げた次第です。 \n後半は北方出土の土器、石器や関連資料類を提示。参加者も手に触れながらのワークショップでした。
URL:https://nobeoka-shidankai.com/event/%e7%ac%ac4%e5%9b%9e%e5%85%ac%e9%96%8b%e8%ac%9b%e6%bc%94%e4%bc%9a/
LOCATION:市教育センター２F（市立図書館横）　研修室５\, 延岡市本小路39番地1\, 延岡市\, 宮崎県\, 日本
ATTACH;FMTTYPE=image/jpeg:https://nobeoka-shidankai.com/wp-content/uploads/2024/09/画像⑤.jpg
ORGANIZER;CN="%E5%8F%B2%E8%AB%87%E4%BC%9A":MAILTO:purelatitude0728@gmail.com
END:VEVENT
END:VCALENDAR