BEGIN:VCALENDAR
VERSION:2.0
PRODID:-//延岡史談会 - ECPv6.13.1//NONSGML v1.0//EN
CALSCALE:GREGORIAN
METHOD:PUBLISH
X-WR-CALNAME:延岡史談会
X-ORIGINAL-URL:https://nobeoka-shidankai.com
X-WR-CALDESC:延岡史談会 のイベント
REFRESH-INTERVAL;VALUE=DURATION:PT1H
X-Robots-Tag:noindex
X-PUBLISHED-TTL:PT1H
BEGIN:VTIMEZONE
TZID:Asia/Tokyo
BEGIN:STANDARD
TZOFFSETFROM:+0900
TZOFFSETTO:+0900
TZNAME:JST
DTSTART:20250101T000000
END:STANDARD
END:VTIMEZONE
BEGIN:VEVENT
DTSTART;TZID=Asia/Tokyo:20250426T140000
DTEND;TZID=Asia/Tokyo:20250426T160000
DTSTAMP:20260425T222752
CREATED:20250425T112146Z
LAST-MODIFIED:20250425T122547Z
UID:1281-1745676000-1745683200@nobeoka-shidankai.com
SUMMARY:『縣』34号第２回編集委員会
DESCRIPTION:延岡市社会教育センター１階会議室１
URL:https://nobeoka-shidankai.com/event/%e7%ac%ac%ef%bc%92%e5%9b%9e%e3%80%80%e3%80%8e%e7%b8%a3%e3%80%8f%e7%b7%a8%e9%9b%86%e5%a7%94%e5%93%a1%e4%bc%9a/
LOCATION:延岡市社会教育センター１階会議室１\, 本小路39番地1\, 延岡市\, 宮崎県\, 8820856
END:VEVENT
BEGIN:VEVENT
DTSTART;TZID=Asia/Tokyo:20250309T100000
DTEND;TZID=Asia/Tokyo:20250309T113000
DTSTAMP:20260425T222752
CREATED:20250308T110334Z
LAST-MODIFIED:20250425T122641Z
UID:1242-1741514400-1741519800@nobeoka-shidankai.com
SUMMARY:『縣』34号第1回編集委員会
DESCRIPTION:甲斐典明、北原、白尾、横川　（敬称略）その他別途設定に川中
URL:https://nobeoka-shidankai.com/event/%e3%80%8e%e7%b8%a3%e3%80%8f34%e5%8f%b7%e7%ac%ac1%e5%9b%9e%e7%b7%a8%e9%9b%86%e5%a7%94%e5%93%a1%e4%bc%9a/
LOCATION:延岡市社会教育センター\, 延岡市本小路39番地1\, 延岡市\, 宮崎県\, 882-0812\, 日本
ORGANIZER;CN="%E5%8F%B2%E8%AB%87%E4%BC%9A":MAILTO:purelatitude0728@gmail.com
END:VEVENT
END:VCALENDAR