BEGIN:VCALENDAR
VERSION:2.0
PRODID:-//延岡史談会 - ECPv6.13.1//NONSGML v1.0//EN
CALSCALE:GREGORIAN
METHOD:PUBLISH
X-WR-CALNAME:延岡史談会
X-ORIGINAL-URL:https://nobeoka-shidankai.com
X-WR-CALDESC:延岡史談会 のイベント
REFRESH-INTERVAL;VALUE=DURATION:PT1H
X-Robots-Tag:noindex
X-PUBLISHED-TTL:PT1H
BEGIN:VTIMEZONE
TZID:Asia/Tokyo
BEGIN:STANDARD
TZOFFSETFROM:+0900
TZOFFSETTO:+0900
TZNAME:JST
DTSTART:20250101T000000
END:STANDARD
END:VTIMEZONE
BEGIN:VEVENT
DTSTART;TZID=Asia/Tokyo:20250601T100000
DTEND;TZID=Asia/Tokyo:20250601T113000
DTSTAMP:20260426T004321
CREATED:20250603T002806Z
LAST-MODIFIED:20250603T003050Z
UID:1331-1748772000-1748777400@nobeoka-shidankai.com
SUMMARY:令和７年度　第３回定例役員会
DESCRIPTION:
URL:https://nobeoka-shidankai.com/event/%e4%bb%a4%e5%92%8c%ef%bc%97%e5%b9%b4%e5%ba%a6%e3%80%80%e7%ac%ac%ef%bc%93%e5%9b%9e%e5%ae%9a%e4%be%8b%e5%bd%b9%e5%93%a1%e4%bc%9a/
LOCATION:延岡市民協働まちづくりセンター\, 東本小路131番地5\, 延岡市\, 宮崎県\, Japan
ATTACH;FMTTYPE=image/jpeg:https://nobeoka-shidankai.com/wp-content/uploads/2025/06/20250601_103011-scaled.jpg
END:VEVENT
BEGIN:VEVENT
DTSTART;TZID=Asia/Tokyo:20250608T100000
DTEND;TZID=Asia/Tokyo:20250608T113000
DTSTAMP:20260426T004321
CREATED:20250520T115724Z
LAST-MODIFIED:20250603T003342Z
UID:1306-1749376800-1749382200@nobeoka-shidankai.com
SUMMARY:令和7年度　第２回ブラアガタ実行委員会
DESCRIPTION:
URL:https://nobeoka-shidankai.com/event/%e4%bb%a4%e5%92%8c7%e5%b9%b4%e5%ba%a6%e3%80%80%e7%ac%ac%ef%bc%91%e5%9b%9e%e3%83%96%e3%83%a9%e3%82%a2%e3%82%ac%e3%82%bf%e5%ae%9f%e8%a1%8c%e5%a7%94%e5%93%a1%e4%bc%9a-2/
LOCATION:延岡市社会教育センター3階研修室4\, 延岡市本小路39番地1\, 延岡市\, 日本
ATTACH;FMTTYPE=image/png:https://nobeoka-shidankai.com/wp-content/uploads/2025/04/ブラアガタ案内イメージ.png
ORGANIZER;CN="%E5%8F%B2%E8%AB%87%E4%BC%9A":MAILTO:purelatitude0728@gmail.com
END:VEVENT
BEGIN:VEVENT
DTSTART;TZID=Asia/Tokyo:20250622T140000
DTEND;TZID=Asia/Tokyo:20250622T153000
DTSTAMP:20260426T004321
CREATED:20250526T025200Z
LAST-MODIFIED:20250608T105215Z
UID:1308-1750600800-1750606200@nobeoka-shidankai.com
SUMMARY:延岡史談会創立90周年記念第１回公開講演会
DESCRIPTION:実施日　令和７年６月２２日（日）\n場所　延岡市社会教育センター　研修室１\n講師\n　　　湯川拓未氏（延岡市立図書館主任主事、司書）\n　　　仮題「レポートを９０周年記念誌『縣』３５号に投稿してみよう」\n日程\n　　13:30　受付開始（資料代が２００円必要です）\n　　14:00　開会行事\n　　　・会長挨拶\n　　　・講師紹介\n　　14:05　講演（グループワーク含む）\n　　15:30　閉会行事\n問合せ先\n事務局　宮田　090-9407-8872\n 
URL:https://nobeoka-shidankai.com/event/%e5%bb%b6%e5%b2%a1%e5%8f%b2%e8%ab%87%e4%bc%9a%e5%89%b5%e7%ab%8b90%e5%91%a8%e5%b9%b4%e8%a8%98%e5%bf%b5%e8%ac%9b%e6%bc%94%e4%bc%9a%e3%80%80%e7%ac%ac%ef%bc%91%e5%9b%9e/
LOCATION:延岡市社会教育センター1階研修室1\, 延岡市本小路39番地1\, 延岡市\, 日本
ATTACH;FMTTYPE=:
ORGANIZER;CN="%E5%8F%B2%E8%AB%87%E4%BC%9A":MAILTO:purelatitude0728@gmail.com
END:VEVENT
BEGIN:VEVENT
DTSTART;TZID=Asia/Tokyo:20250713T100000
DTEND;TZID=Asia/Tokyo:20250713T113000
DTSTAMP:20260426T004321
CREATED:20250704T034742Z
LAST-MODIFIED:20250704T034902Z
UID:1364-1752400800-1752406200@nobeoka-shidankai.com
SUMMARY:令和７年度　第４回定例役員会
DESCRIPTION:10:00～11:30\n市民協働まちづくりセンター　小会議室１
URL:https://nobeoka-shidankai.com/event/%e4%bb%a4%e5%92%8c7%e5%b9%b4%e5%ba%a6%e3%80%80%e7%ac%ac3%e5%9b%9e%e3%83%96%e3%83%a9%e3%82%a2%e3%82%ac%e3%82%bf%e5%ae%9f%e8%a1%8c%e5%a7%94%e5%93%a1%e4%bc%9a/
LOCATION:延岡市社会教育センター\, 延岡市本小路39番地1\, 延岡市\, 宮崎県\, 882-0812\, 日本
ATTACH;FMTTYPE=:
END:VEVENT
BEGIN:VEVENT
DTSTART;TZID=Asia/Tokyo:20250726T180000
DTEND;TZID=Asia/Tokyo:20250726T210000
DTSTAMP:20260426T004321
CREATED:20250714T124617Z
LAST-MODIFIED:20250719T065633Z
UID:1372-1753552800-1753563600@nobeoka-shidankai.com
SUMMARY:延岡城CG ＆ ブラアガタ上映会
DESCRIPTION:◆日時：7月26日(土)16:00～18:55\n◆上映：16:00より毎時、00分･30分上映開始。\n最終は18:30〜。\n1回目16:00～16:25\n2回目16:30～16:55\n3回目17:00～17:25\n4回目17:30～17:55\n5回目18:00～18:25\n6回目18:30～18:55\n◆会場：野口遵記念館フリースペースB キャパ37\n◆備考\n①関係者の集合時間や駐車場などについては、別途、連絡します。\n②「まつりのべおか」ホームページの＜延岡城CG&ブラアガタ上映＞PRはこちらです。\nhttps://www.facebook.com/share/v/1Aud1X1pfK/
URL:https://nobeoka-shidankai.com/event/%e5%bb%b6%e5%b2%a1%e5%9f%8ecg-%ef%bc%86-%e3%83%96%e3%83%a9%e3%82%a2%e3%82%ac%e3%82%bf%e4%b8%8a%e6%98%a0%e4%bc%9a/
LOCATION:野口遵記念館フリースペース\, 東本小路１１９−１\, 延岡市\, 宮崎県\, 8820813
ATTACH;FMTTYPE=:
END:VEVENT
BEGIN:VEVENT
DTSTART;TZID=Asia/Tokyo:20250810T090000
DTEND;TZID=Asia/Tokyo:20250810T103000
DTSTAMP:20260426T004321
CREATED:20250714T003024Z
LAST-MODIFIED:20250809T013806Z
UID:1368-1754816400-1754821800@nobeoka-shidankai.com
SUMMARY:令和７年度　第５回定例役員会
DESCRIPTION:会場：延岡市民協働まちづくりセンター　小会議室１\n時刻が通常と異なっています、ご注意ください。\n9:00～10:30
URL:https://nobeoka-shidankai.com/event/%e4%bb%a4%e5%92%8c%ef%bc%97%e5%b9%b4%e5%ba%a6%e3%80%80%e7%ac%ac%ef%bc%95%e5%9b%9e%e5%ae%9a%e4%be%8b%e5%bd%b9%e5%93%a1%e4%bc%9a/
LOCATION:延岡市民協働まちづくりセンター\, 東本小路131番地5\, 延岡市\, 宮崎県\, Japan
ATTACH;FMTTYPE=:
END:VEVENT
BEGIN:VEVENT
DTSTART;TZID=Asia/Tokyo:20250817T100000
DTEND;TZID=Asia/Tokyo:20250817T113000
DTSTAMP:20260426T004321
CREATED:20250526T031901Z
LAST-MODIFIED:20250815T062511Z
UID:1323-1755424800-1755430200@nobeoka-shidankai.com
SUMMARY:令和7年度　第３回ブラアガタ実行委員会
DESCRIPTION:広報を含めた準備
URL:https://nobeoka-shidankai.com/event/%e4%bb%a4%e5%92%8c7%e5%b9%b4%e5%ba%a6%e3%80%80%e7%ac%ac%ef%bc%93%e5%9b%9e%e3%83%96%e3%83%a9%e3%82%a2%e3%82%ac%e3%82%bf%e5%ae%9f%e8%a1%8c%e5%a7%94%e5%93%a1%e4%bc%9a/
LOCATION:延岡市社会教育センター1階研修室1\, 延岡市本小路39番地1\, 延岡市\, 日本
ATTACH;FMTTYPE=image/png:https://nobeoka-shidankai.com/wp-content/uploads/2025/04/ブラアガタ案内イメージ.png
END:VEVENT
BEGIN:VEVENT
DTSTART;TZID=Asia/Tokyo:20250907T100000
DTEND;TZID=Asia/Tokyo:20250907T113000
DTSTAMP:20260426T004321
CREATED:20250817T094044Z
LAST-MODIFIED:20250817T094044Z
UID:1426-1757239200-1757244600@nobeoka-shidankai.com
SUMMARY:和７年度　第６回定例役員会
DESCRIPTION:９月役員会
URL:https://nobeoka-shidankai.com/event/%e5%92%8c%ef%bc%97%e5%b9%b4%e5%ba%a6%e3%80%80%e7%ac%ac%ef%bc%96%e5%9b%9e%e5%ae%9a%e4%be%8b%e5%bd%b9%e5%93%a1%e4%bc%9a/
LOCATION:延岡市民協働まちづくりセンター\, 東本小路131番地5\, 延岡市\, 宮崎県\, Japan
ATTACH;FMTTYPE=:
END:VEVENT
BEGIN:VEVENT
DTSTART;TZID=Asia/Tokyo:20250913T100000
DTEND;TZID=Asia/Tokyo:20250913T113000
DTSTAMP:20260426T004321
CREATED:20250817T093424Z
LAST-MODIFIED:20250817T094151Z
UID:1423-1757757600-1757763000@nobeoka-shidankai.com
SUMMARY:令和7年度　第４回ブラアガタ実行委員会
DESCRIPTION:
URL:https://nobeoka-shidankai.com/event/%e4%bb%a4%e5%92%8c%ef%bc%97%e5%b9%b4%e5%ba%a6%e3%80%80%e7%ac%ac%ef%bc%96%e5%9b%9e%e5%ae%9a%e4%be%8b%e5%bd%b9%e5%93%a1%e4%bc%9a/
LOCATION:延岡市社会教育センター1階研修室1\, 延岡市本小路39番地1\, 延岡市\, 日本
ATTACH;FMTTYPE=:
ORGANIZER;CN="%E5%8F%B2%E8%AB%87%E4%BC%9A":MAILTO:purelatitude0728@gmail.com
END:VEVENT
BEGIN:VEVENT
DTSTART;TZID=Asia/Tokyo:20250921T140000
DTEND;TZID=Asia/Tokyo:20250921T153000
DTSTAMP:20260426T004321
CREATED:20250526T025453Z
LAST-MODIFIED:20250920T235909Z
UID:1310-1758463200-1758468600@nobeoka-shidankai.com
SUMMARY:延岡史談会創立90周年記念第２回公開講演会
DESCRIPTION:新名一仁氏（南九州大学） \n演　題　戦国島津氏と縣(あがた)～『上井覚兼日記』を中心に～\n会　場　延岡市社会教育センター１階第１研修室\n資料代　￥200
URL:https://nobeoka-shidankai.com/event/%e5%bb%b6%e5%b2%a1%e5%8f%b2%e8%ab%87%e4%bc%9a%e5%89%b5%e7%ab%8b90%e5%91%a8%e5%b9%b4%e8%a8%98%e5%bf%b5%e8%ac%9b%e6%bc%94%e4%bc%9a%e3%80%80%e7%ac%ac%ef%bc%92%e5%9b%9e/
ATTACH;FMTTYPE=:
END:VEVENT
BEGIN:VEVENT
DTSTART;TZID=Asia/Tokyo:20250928T100000
DTEND;TZID=Asia/Tokyo:20250928T113000
DTSTAMP:20260426T004321
CREATED:20250817T094309Z
LAST-MODIFIED:20250817T094309Z
UID:1429-1759053600-1759059000@nobeoka-shidankai.com
SUMMARY:令和7年度　第５回ブラアガタ実行委員会
DESCRIPTION:
URL:https://nobeoka-shidankai.com/event/%e4%bb%a4%e5%92%8c7%e5%b9%b4%e5%ba%a6%e3%80%80%e7%ac%ac%ef%bc%95%e5%9b%9e%e3%83%96%e3%83%a9%e3%82%a2%e3%82%ac%e3%82%bf%e5%ae%9f%e8%a1%8c%e5%a7%94%e5%93%a1%e4%bc%9a/
LOCATION:延岡市社会教育センター\, 延岡市本小路39番地1\, 延岡市\, 宮崎県\, 882-0812\, 日本
ATTACH;FMTTYPE=:
END:VEVENT
BEGIN:VEVENT
DTSTART;TZID=Asia/Tokyo:20251005T100000
DTEND;TZID=Asia/Tokyo:20251005T113000
DTSTAMP:20260426T004321
CREATED:20250817T094442Z
LAST-MODIFIED:20251002T140728Z
UID:1431-1759658400-1759663800@nobeoka-shidankai.com
SUMMARY:和７年度　第７回定例役員会
DESCRIPTION:会場につきまして、掲載間違いがあり、 \n１０月２日に訂正いたしました。 \n役員会は「延岡市民協働まちづくりセンター」で行います。 \n 
URL:https://nobeoka-shidankai.com/event/%e5%92%8c%ef%bc%97%e5%b9%b4%e5%ba%a6%e3%80%80%e7%ac%ac%ef%bc%97%e5%9b%9e%e5%ae%9a%e4%be%8b%e5%bd%b9%e5%93%a1%e4%bc%9a/
LOCATION:延岡市民協働まちづくりセンター\, 東本小路131番地5\, 延岡市\, 宮崎県\, Japan
ATTACH;FMTTYPE=:
END:VEVENT
BEGIN:VEVENT
DTSTART;TZID=Asia/Tokyo:20251012T100000
DTEND;TZID=Asia/Tokyo:20251012T113000
DTSTAMP:20260426T004321
CREATED:20250817T094654Z
LAST-MODIFIED:20250930T234327Z
UID:1433-1760263200-1760268600@nobeoka-shidankai.com
SUMMARY:令和7年度　第６回ブラアガタ実行委員会
DESCRIPTION:日程について \n当初11日開催であったが12日に変更されました。\nホームページでは10月1日に更新を行いました。 \n会場については変更ありません。
URL:https://nobeoka-shidankai.com/event/%e4%bb%a4%e5%92%8c7%e5%b9%b4%e5%ba%a6%e3%80%80%e7%ac%ac%ef%bc%96%e5%9b%9e%e3%83%96%e3%83%a9%e3%82%a2%e3%82%ac%e3%82%bf%e5%ae%9f%e8%a1%8c%e5%a7%94%e5%93%a1%e4%bc%9a/
LOCATION:延岡市社会教育センター\, 延岡市本小路39番地1\, 延岡市\, 宮崎県\, 882-0812\, 日本
ATTACH;FMTTYPE=:
END:VEVENT
BEGIN:VEVENT
DTSTART;TZID=Asia/Tokyo:20251026T100000
DTEND;TZID=Asia/Tokyo:20251026T113000
DTSTAMP:20260426T004321
CREATED:20250817T094753Z
LAST-MODIFIED:20250817T094753Z
UID:1435-1761472800-1761478200@nobeoka-shidankai.com
SUMMARY:令和7年度　第７回ブラアガタ実行委員会
DESCRIPTION:
URL:https://nobeoka-shidankai.com/event/%e4%bb%a4%e5%92%8c7%e5%b9%b4%e5%ba%a6%e3%80%80%e7%ac%ac%ef%bc%97%e5%9b%9e%e3%83%96%e3%83%a9%e3%82%a2%e3%82%ac%e3%82%bf%e5%ae%9f%e8%a1%8c%e5%a7%94%e5%93%a1%e4%bc%9a/
LOCATION:延岡市社会教育センター\, 延岡市本小路39番地1\, 延岡市\, 宮崎県\, 882-0812\, 日本
ATTACH;FMTTYPE=:
END:VEVENT
BEGIN:VEVENT
DTSTART;TZID=Asia/Tokyo:20251026T140000
DTEND;TZID=Asia/Tokyo:20251026T153000
DTSTAMP:20260426T004321
CREATED:20250526T025706Z
LAST-MODIFIED:20251001T102247Z
UID:1312-1761487200-1761492600@nobeoka-shidankai.com
SUMMARY:延岡史談会創立90周年記念第３回公開講演会
DESCRIPTION:那賀教史氏（宮崎民俗学会会長） \n「延岡にみる民俗の春夏秋冬」 \n会　場　延岡市社会教育センター１階第１研修室\n資料代　￥200
URL:https://nobeoka-shidankai.com/event/%e5%bb%b6%e5%b2%a1%e5%8f%b2%e8%ab%87%e4%bc%9a%e5%89%b5%e7%ab%8b90%e5%91%a8%e5%b9%b4%e8%a8%98%e5%bf%b5%e8%ac%9b%e6%bc%94%e4%bc%9a%e3%80%80%e7%ac%ac%ef%bc%93%e5%9b%9e/
LOCATION:延岡市社会教育センター1階研修室1\, 延岡市本小路39番地1\, 延岡市\, 日本
ATTACH;FMTTYPE=:
END:VEVENT
BEGIN:VEVENT
DTSTART;TZID=Asia/Tokyo:20251102T093000
DTEND;TZID=Asia/Tokyo:20251102T100000
DTSTAMP:20260426T004321
CREATED:20250817T095236Z
LAST-MODIFIED:20251102T120751Z
UID:1441-1762075800-1762077600@nobeoka-shidankai.com
SUMMARY:和７年度　第８回定例役員会
DESCRIPTION:
URL:https://nobeoka-shidankai.com/event/%e5%92%8c%ef%bc%97%e5%b9%b4%e5%ba%a6%e3%80%80%e7%ac%ac%ef%bc%98%e5%9b%9e%e5%ae%9a%e4%be%8b%e5%bd%b9%e5%93%a1%e4%bc%9a/
LOCATION:延岡市社会教育センター1階研修室1\, 延岡市本小路39番地1\, 延岡市\, 日本
ATTACH;FMTTYPE=:
END:VEVENT
BEGIN:VEVENT
DTSTART;TZID=Asia/Tokyo:20251102T100000
DTEND;TZID=Asia/Tokyo:20251102T113000
DTSTAMP:20260426T004321
CREATED:20250817T094910Z
LAST-MODIFIED:20250817T094910Z
UID:1437-1762077600-1762083000@nobeoka-shidankai.com
SUMMARY:令和7年度　第８回ブラアガタ実行委員会
DESCRIPTION:
URL:https://nobeoka-shidankai.com/event/%e4%bb%a4%e5%92%8c7%e5%b9%b4%e5%ba%a6%e3%80%80%e7%ac%ac%ef%bc%98%e5%9b%9e%e3%83%96%e3%83%a9%e3%82%a2%e3%82%ac%e3%82%bf%e5%ae%9f%e8%a1%8c%e5%a7%94%e5%93%a1%e4%bc%9a/
LOCATION:延岡市社会教育センター\, 延岡市本小路39番地1\, 延岡市\, 宮崎県\, 882-0812\, 日本
ATTACH;FMTTYPE=:
END:VEVENT
BEGIN:VEVENT
DTSTART;TZID=Asia/Tokyo:20251116T100000
DTEND;TZID=Asia/Tokyo:20251116T110000
DTSTAMP:20260426T004321
CREATED:20250817T095020Z
LAST-MODIFIED:20251108T151336Z
UID:1439-1763287200-1763290800@nobeoka-shidankai.com
SUMMARY:令和7年度　第９回ブラアガタ実行委員会
DESCRIPTION:１１月９日に、会場が変更されています。\n新しく決定した会場は：延岡市民協働まちづくりセンター　中会議室　です。
URL:https://nobeoka-shidankai.com/event/%e4%bb%a4%e5%92%8c7%e5%b9%b4%e5%ba%a6%e3%80%80%e7%ac%ac%ef%bc%99%e5%9b%9e%e3%83%96%e3%83%a9%e3%82%a2%e3%82%ac%e3%82%bf%e5%ae%9f%e8%a1%8c%e5%a7%94%e5%93%a1%e4%bc%9a/
LOCATION:延岡市民協働まちづくりセンター\, 東本小路131番地5\, 延岡市\, 宮崎県\, Japan
ATTACH;FMTTYPE=:
END:VEVENT
BEGIN:VEVENT
DTSTART;TZID=Asia/Tokyo:20251130T123000
DTEND;TZID=Asia/Tokyo:20251130T143000
DTSTAMP:20260426T004321
CREATED:20251102T121136Z
LAST-MODIFIED:20251125T083304Z
UID:1522-1764505800-1764513000@nobeoka-shidankai.com
SUMMARY:第10回　ブラアガタ実行委員会
DESCRIPTION:当日通りの案内を行ってみる\n野口遵記念館集合\n実際のコースをガイドしながらまわり、事後考察を実施。
URL:https://nobeoka-shidankai.com/event/%e7%ac%ac10%e5%9b%9e%e3%80%80%e3%83%96%e3%83%a9%e3%82%a2%e3%82%ac%e3%82%bf%e5%ae%9f%e8%a1%8c%e5%a7%94%e5%93%a1%e4%bc%9a/
LOCATION:野口遵記念館フリースペース\, 東本小路１１９−１\, 延岡市\, 宮崎県\, 8820813
ATTACH;FMTTYPE=:
END:VEVENT
BEGIN:VEVENT
DTSTART;TZID=Asia/Tokyo:20251206T100000
DTEND;TZID=Asia/Tokyo:20251206T113000
DTSTAMP:20260426T004321
CREATED:20251102T123903Z
LAST-MODIFIED:20251102T123903Z
UID:1527-1765015200-1765020600@nobeoka-shidankai.com
SUMMARY:ブラアガタ最終実行委員会
DESCRIPTION:社会教育センター（未定）
URL:https://nobeoka-shidankai.com/event/%e3%83%96%e3%83%a9%e3%82%a2%e3%82%ac%e3%82%bf%e6%9c%80%e7%b5%82%e5%ae%9f%e8%a1%8c%e5%a7%94%e5%93%a1%e4%bc%9a/
LOCATION:社会教育センター（未定）
ATTACH;FMTTYPE=:
END:VEVENT
BEGIN:VEVENT
DTSTART;TZID=Asia/Tokyo:20251207T090000
DTEND;TZID=Asia/Tokyo:20251207T153000
DTSTAMP:20260426T004321
CREATED:20250425T115514Z
LAST-MODIFIED:20251006T115557Z
UID:1289-1765098000-1765121400@nobeoka-shidankai.com
SUMMARY:のべおかさるきブラアガタ～ 延岡の始まりと今物語り第三弾～
DESCRIPTION:文化庁補助地域文化財活用推進事業\n「のべおかさるきブラアガタ第三弾」 \nお申し込み \n9:30～　受付\n10:00～11:30　公開講演会（基調講演）\n【会場】野口遵記念館ホール\n【定員】700名(入場無料、どなたでもご入場できます、多くのご来場をお願いします）\n【講師】福岡市博物館総館長　中野　等 氏\n【演題】「高橋元種とその時代」\n豊臣秀吉による九州平定後の九州経営と延岡を中心とする北日向の地政学的重要性について、宮崎県からのローカルな視点ではなく、全国統一を成し遂げた豊臣中央政権からの視点で解説していきます。その歴史的経緯を踏まえた上で、「城下町延岡の創健者」にして初代延岡藩主高橋元種の全体像と日向国では唯一の本格的織豊系近世城郭延岡城が築かれた背景に迫る、初めての本格的な講演会です。 \n13:00～15:15　歴史探訪会（史跡巡見）\n【会場】野口遵記念館⇔延岡城址・城下町\n【定員】100名（超過の場合は抽選となります）\n【内容】基調講演の内容を承け、高橋元種が築城した宮崎県唯一の織豊系近世城郭都市延岡を延岡史談会員の案内でぶらさるきながら、延岡城422年の歴史を体感します。 \n15:15　閉会行事\n15:15　終了
URL:https://nobeoka-shidankai.com/event/%e3%81%ae%e3%81%b9%e3%81%8a%e3%81%8b%e3%81%95%e3%82%8b%e3%81%8d%e3%83%96%e3%83%a9%e3%82%a2%e3%82%ac%e3%82%bf%ef%bd%9e-%e5%bb%b6%e5%b2%a1%e3%81%ae%e5%a7%8b%e3%81%be%e3%82%8a%e3%81%a8%e4%bb%8a-2/
LOCATION:野口遵記念館\, 東本小路119-1\, 延岡市\, 宮崎県\, 8820856
ATTACH;FMTTYPE=:
ORGANIZER;CN="%E5%8F%B2%E8%AB%87%E4%BC%9A":MAILTO:purelatitude0728@gmail.com
END:VEVENT
BEGIN:VEVENT
DTSTART;TZID=Asia/Tokyo:20251214T100000
DTEND;TZID=Asia/Tokyo:20251214T113000
DTSTAMP:20260426T004321
CREATED:20250817T095530Z
LAST-MODIFIED:20250817T095642Z
UID:1443-1765706400-1765711800@nobeoka-shidankai.com
SUMMARY:和７年度　第９回定例役員会
DESCRIPTION:
URL:https://nobeoka-shidankai.com/event/%e5%92%8c%ef%bc%97%e5%b9%b4%e5%ba%a6%e3%80%80%e7%ac%ac%ef%bc%99%e5%9b%9e%e5%ae%9a%e4%be%8b%e5%bd%b9%e5%93%a1%e4%bc%9a/
LOCATION:延岡市民協働まちづくりセンター\, 東本小路131番地5\, 延岡市\, 宮崎県\, Japan
ATTACH;FMTTYPE=:
END:VEVENT
BEGIN:VEVENT
DTSTART;TZID=Asia/Tokyo:20251220T080000
DTEND;TZID=Asia/Tokyo:20251220T170000
DTSTAMP:20260426T004321
CREATED:20251220T081337Z
LAST-MODIFIED:20251220T081337Z
UID:1589-1766217600-1766250000@nobeoka-shidankai.com
SUMMARY:第10回　定例役員会
DESCRIPTION:
URL:https://nobeoka-shidankai.com/event/%e7%ac%ac10%e5%9b%9e%e3%80%80%e5%ae%9a%e4%be%8b%e5%bd%b9%e5%93%a1%e4%bc%9a/
LOCATION:延岡市民協働まちづくりセンター\, 東本小路131番地5\, 延岡市\, 宮崎県\, Japan
ATTACH;FMTTYPE=:
ORGANIZER;CN="%E5%8F%B2%E8%AB%87%E4%BC%9A":MAILTO:purelatitude0728@gmail.com
END:VEVENT
BEGIN:VEVENT
DTSTART;TZID=Asia/Tokyo:20260104T100000
DTEND;TZID=Asia/Tokyo:20260104T113000
DTSTAMP:20260426T004321
CREATED:20251220T073646Z
LAST-MODIFIED:20251220T073646Z
UID:1581-1767520800-1767526200@nobeoka-shidankai.com
SUMMARY:第9回　定例役員会
DESCRIPTION:
URL:https://nobeoka-shidankai.com/event/%e7%ac%ac9%e5%9b%9e%e3%80%80%e5%ae%9a%e4%be%8b%e5%bd%b9%e5%93%a1%e4%bc%9a/
LOCATION:延岡市民協働まちづくりセンター\, 東本小路131番地5\, 延岡市\, 宮崎県\, Japan
ATTACH;FMTTYPE=:
ORGANIZER;CN="%E5%8F%B2%E8%AB%87%E4%BC%9A":MAILTO:purelatitude0728@gmail.com
END:VEVENT
BEGIN:VEVENT
DTSTART;TZID=Asia/Tokyo:20260116T180000
DTEND;TZID=Asia/Tokyo:20260116T200000
DTSTAMP:20260426T004321
CREATED:20250526T030516Z
LAST-MODIFIED:20250526T030516Z
UID:1317-1768586400-1768593600@nobeoka-shidankai.com
SUMMARY:延岡史談会創立90周年記念式典・祝賀会
DESCRIPTION:日時：令和８年１月１６日（金） \n18:00～18:30　　記念式典\n18:30～20:00　　祝賀会 \n会場：国技館（予定）\n運営：延岡史談会創立90周年記念式典・祝賀会実行委員会
URL:https://nobeoka-shidankai.com/event/%e5%bb%b6%e5%b2%a1%e5%8f%b2%e8%ab%87%e4%bc%9a%e5%89%b5%e7%ab%8b90%e5%91%a8%e5%b9%b4%e8%a8%98%e5%bf%b5%e5%bc%8f%e5%85%b8%e3%83%bb%e7%a5%9d%e8%b3%80%e4%bc%9a/
ATTACH;FMTTYPE=:
END:VEVENT
BEGIN:VEVENT
DTSTART;TZID=Asia/Tokyo:20260210T100000
DTEND;TZID=Asia/Tokyo:20260210T160000
DTSTAMP:20260426T004321
CREATED:20251220T080924Z
LAST-MODIFIED:20251220T080924Z
UID:1583-1770717600-1770739200@nobeoka-shidankai.com
SUMMARY:「延岡花物語」本東寺観梅会史跡案内
DESCRIPTION:
URL:https://nobeoka-shidankai.com/event/%e3%80%8c%e5%bb%b6%e5%b2%a1%e8%8a%b1%e7%89%a9%e8%aa%9e%e3%80%8d%e6%9c%ac%e6%9d%b1%e5%af%ba%e8%a6%b3%e6%a2%85%e4%bc%9a%e5%8f%b2%e8%b7%a1%e6%a1%88%e5%86%85-3/
LOCATION:本東寺、松尾城\, 松山町１１３３\, 延岡市\, 宮崎県\, 8820062\, Japan
ATTACH;FMTTYPE=:
END:VEVENT
BEGIN:VEVENT
DTSTART;TZID=Asia/Tokyo:20260211T080000
DTEND;TZID=Asia/Tokyo:20260211T113000
DTSTAMP:20260426T004321
CREATED:20251220T081200Z
LAST-MODIFIED:20251220T081200Z
UID:1587-1770796800-1770809400@nobeoka-shidankai.com
SUMMARY:国と市の誕生を祝う会
DESCRIPTION:
URL:https://nobeoka-shidankai.com/event/%e5%9b%bd%e3%81%a8%e5%b8%82%e3%81%ae%e8%aa%95%e7%94%9f%e3%82%92%e7%a5%9d%e3%81%86%e4%bc%9a/
LOCATION:今山八幡宮
ATTACH;FMTTYPE=:
END:VEVENT
BEGIN:VEVENT
DTSTART;TZID=Asia/Tokyo:20260211T100000
DTEND;TZID=Asia/Tokyo:20260211T160000
DTSTAMP:20260426T004321
CREATED:20251220T081036Z
LAST-MODIFIED:20251220T081036Z
UID:1585-1770804000-1770825600@nobeoka-shidankai.com
SUMMARY:「延岡花物語」本東寺観梅会史跡案内
DESCRIPTION:
URL:https://nobeoka-shidankai.com/event/%e3%80%8c%e5%bb%b6%e5%b2%a1%e8%8a%b1%e7%89%a9%e8%aa%9e%e3%80%8d%e6%9c%ac%e6%9d%b1%e5%af%ba%e8%a6%b3%e6%a2%85%e4%bc%9a%e5%8f%b2%e8%b7%a1%e6%a1%88%e5%86%85-4/
LOCATION:本東寺、松尾城\, 松山町１１３３\, 延岡市\, 宮崎県\, 8820062\, Japan
ATTACH;FMTTYPE=:
ORGANIZER;CN="%E5%8F%B2%E8%AB%87%E4%BC%9A":MAILTO:purelatitude0728@gmail.com
END:VEVENT
BEGIN:VEVENT
DTSTART;TZID=Asia/Tokyo:20260215T100000
DTEND;TZID=Asia/Tokyo:20260215T113000
DTSTAMP:20260426T004321
CREATED:20250817T095835Z
LAST-MODIFIED:20250817T095835Z
UID:1445-1771149600-1771155000@nobeoka-shidankai.com
SUMMARY:ぶらアガタ実行委員会　総括
DESCRIPTION:
URL:https://nobeoka-shidankai.com/event/%e3%81%b6%e3%82%89%e3%82%a2%e3%82%ac%e3%82%bf%e5%ae%9f%e8%a1%8c%e5%a7%94%e5%93%a1%e4%bc%9a%e3%80%80%e7%b7%8f%e6%8b%ac/
LOCATION:延岡市社会教育センター\, 延岡市本小路39番地1\, 延岡市\, 宮崎県\, 882-0812\, 日本
ATTACH;FMTTYPE=:
END:VEVENT
BEGIN:VEVENT
DTSTART;TZID=Asia/Tokyo:20260301T100000
DTEND;TZID=Asia/Tokyo:20260301T113000
DTSTAMP:20260426T004321
CREATED:20251220T081455Z
LAST-MODIFIED:20251220T081455Z
UID:1591-1772359200-1772364600@nobeoka-shidankai.com
SUMMARY:第11回　定例役員会
DESCRIPTION:
URL:https://nobeoka-shidankai.com/event/%e7%ac%ac11%e5%9b%9e%e3%80%80%e5%ae%9a%e4%be%8b%e5%bd%b9%e5%93%a1%e4%bc%9a/
LOCATION:延岡市民協働まちづくりセンター\, 東本小路131番地5\, 延岡市\, 宮崎県\, Japan
ATTACH;FMTTYPE=:
END:VEVENT
END:VCALENDAR