BEGIN:VCALENDAR
VERSION:2.0
PRODID:-//延岡史談会 - ECPv6.13.1//NONSGML v1.0//EN
CALSCALE:GREGORIAN
METHOD:PUBLISH
X-WR-CALNAME:延岡史談会
X-ORIGINAL-URL:https://nobeoka-shidankai.com
X-WR-CALDESC:延岡史談会 のイベント
REFRESH-INTERVAL;VALUE=DURATION:PT1H
X-Robots-Tag:noindex
X-PUBLISHED-TTL:PT1H
BEGIN:VTIMEZONE
TZID:Asia/Tokyo
BEGIN:STANDARD
TZOFFSETFROM:+0900
TZOFFSETTO:+0900
TZNAME:JST
DTSTART:20250101T000000
END:STANDARD
END:VTIMEZONE
BEGIN:VEVENT
DTSTART;TZID=Asia/Tokyo:20250105T100000
DTEND;TZID=Asia/Tokyo:20250105T110000
DTSTAMP:20260425T220753
CREATED:20241130T115633Z
LAST-MODIFIED:20241130T120905Z
UID:899-1736071200-1736074800@nobeoka-shidankai.com
SUMMARY:第10回定例役員会
DESCRIPTION:
URL:https://nobeoka-shidankai.com/event/%e7%ac%ac10%e5%9b%9e%e5%ae%9a%e4%be%8b%e5%bd%b9%e5%93%a1%e4%bc%9a/
LOCATION:延岡市民協働まちづくりセンター\, 東本小路131番地5\, 延岡市\, 宮崎県\, Japan
END:VEVENT
BEGIN:VEVENT
DTSTART;TZID=Asia/Tokyo:20250110T183000
DTEND;TZID=Asia/Tokyo:20250110T203000
DTSTAMP:20260425T220753
CREATED:20241130T115811Z
LAST-MODIFIED:20241203T054124Z
UID:901-1736533800-1736541000@nobeoka-shidankai.com
SUMMARY:新年会(国技館)
DESCRIPTION:会　場：国技館\n受　付：18:00～\n開　始：18:30～\n開催者：延岡史談会\n会　費：4\,000円（飲み物として生ビールジョッキ3杯分程度込み）\n備　考：飲み食べ放題ではありません。メニューから別に単品のご注文、及び高額な飲物は各自その場で自己決済してください。\n飲物の持込は許可を取ってありますが、持込料金が発生します。
URL:https://nobeoka-shidankai.com/event/%e6%96%b0%e5%b9%b4%e4%bc%9a%e5%9b%bd%e6%8a%80%e9%a4%a8/
LOCATION:国技館
END:VEVENT
BEGIN:VEVENT
DTSTART;TZID=Asia/Tokyo:20250119T100000
DTEND;TZID=Asia/Tokyo:20250119T120000
DTSTAMP:20260425T220753
CREATED:20241130T115857Z
LAST-MODIFIED:20241130T115857Z
UID:904-1737280800-1737288000@nobeoka-shidankai.com
SUMMARY:第１回史跡巡検(北方地区)
DESCRIPTION:
URL:https://nobeoka-shidankai.com/event/%e7%ac%ac%ef%bc%91%e5%9b%9e%e5%8f%b2%e8%b7%a1%e5%b7%a1%e6%a4%9c%e5%8c%97%e6%96%b9%e5%9c%b0%e5%8c%ba/
LOCATION:宮崎県
END:VEVENT
BEGIN:VEVENT
DTSTART;TZID=Asia/Tokyo:20250126T100000
DTEND;TZID=Asia/Tokyo:20250126T120000
DTSTAMP:20260425T220753
CREATED:20241130T120005Z
LAST-MODIFIED:20241130T120005Z
UID:906-1737885600-1737892800@nobeoka-shidankai.com
SUMMARY:延岡花物語り史跡案内事前研修会
DESCRIPTION:
URL:https://nobeoka-shidankai.com/event/%e5%bb%b6%e5%b2%a1%e8%8a%b1%e7%89%a9%e8%aa%9e%e3%82%8a%e5%8f%b2%e8%b7%a1%e6%a1%88%e5%86%85%e4%ba%8b%e5%89%8d%e7%a0%94%e4%bf%ae%e4%bc%9a/
LOCATION:本東寺、松尾城\, 松山町１１３３\, 延岡市\, 宮崎県\, 8820062\, Japan
END:VEVENT
BEGIN:VEVENT
DTSTART;TZID=Asia/Tokyo:20250130T190000
DTEND;TZID=Asia/Tokyo:20250130T203000
DTSTAMP:20260425T220753
CREATED:20250111T143245Z
LAST-MODIFIED:20250111T143245Z
UID:1007-1738263600-1738269000@nobeoka-shidankai.com
SUMMARY:延岡花物語り実行委員会
DESCRIPTION:延岡市中小企業振興センター\n富山副会長
URL:https://nobeoka-shidankai.com/event/%e5%bb%b6%e5%b2%a1%e8%8a%b1%e7%89%a9%e8%aa%9e%e3%82%8a%e5%ae%9f%e8%a1%8c%e5%a7%94%e5%93%a1%e4%bc%9a/
LOCATION:延岡市中小企業振興センター
ORGANIZER;CN="%E5%8F%B2%E8%AB%87%E4%BC%9A":MAILTO:purelatitude0728@gmail.com
END:VEVENT
BEGIN:VEVENT
DTSTART;TZID=Asia/Tokyo:20250202T100000
DTEND;TZID=Asia/Tokyo:20250202T113000
DTSTAMP:20260425T220753
CREATED:20250111T143413Z
LAST-MODIFIED:20250202T144307Z
UID:1010-1738490400-1738495800@nobeoka-shidankai.com
SUMMARY:第１１回定例役員会
DESCRIPTION:来週の本東寺観梅会史跡案内､3月16日の領域研究発表会\n来年度の事業計画\n90周年事業等々盛り沢山の懸案事項を審議。\n次回の三役会で詳細を詰める算段となった。
URL:https://nobeoka-shidankai.com/event/%e7%ac%ac%ef%bc%91%ef%bc%91%e5%9b%9e%e5%ae%9a%e4%be%8b%e5%bd%b9%e5%93%a1%e4%bc%9a/
LOCATION:延岡市民協働まちづくりセンター\, 東本小路131番地5\, 延岡市\, 宮崎県\, Japan
ORGANIZER;CN="%E5%8F%B2%E8%AB%87%E4%BC%9A":MAILTO:purelatitude0728@gmail.com
END:VEVENT
BEGIN:VEVENT
DTSTART;TZID=Asia/Tokyo:20250202T140000
DTEND;TZID=Asia/Tokyo:20250202T160000
DTSTAMP:20260425T220753
CREATED:20250127T063719Z
LAST-MODIFIED:20250202T143814Z
UID:1023-1738504800-1738512000@nobeoka-shidankai.com
SUMMARY:歴史・地理領域例会
DESCRIPTION:第2回 伊形・土々呂地域調査 報告\n調査概要\n\n日時：午後\n場所：上伊形町（通称「赤水の地蔵さん」「耳神様」）\n目的：歴史的価値の調査\n\n調査内容\n\n地元では「お地蔵さん」として親しまれてきたが、**実際には僧侶の供養塔（無縫塔・卵塔）**だった。\n元々は赤水峠にあったものが、不明な時期に現在地へ移転されたと推測。\n正面の塔身には「地蔵尊龕」と**天文十七年（1548年）**の銘が確認された。\n基礎部分：「開山」\n塔身部分：「前永祥七歩孝和尚」の刻銘\n戦後より「耳神様（みみがんさん）」と呼ばれるようになったが由来は不明\n\n発見の意義\n\n『延岡の石塔を訪ねて』（まがたまひみこ会編）にも未掲載\n延岡市の担当部署でも未確認の史跡\n調査結果を史談会会報誌『縣』第30号で報告予定。\n\n1回目の調査での情報\n伝承の背景と内容\n\n地蔵の移設とその由来\n\n元の場所と移設\nかつて「赤水峠」に建立されていた地蔵（無縫塔）が、後の世代によって山麓の場所に移されたと伝えられています。これは、地域の歴史的・宗教的な流れの中で行われたとされ、今もその遺構や伝説として語り継がれています。\n\n\n悲恋伝説：若和尚と村の娘\n\n若和尚の運命\n赤水興禅寺に所属していた若和尚にまつわる伝承があり、彼は村の娘との悲恋に陥ったとされています。伝説では、若和尚は破戒僧として親寺である伊福形宝蔵寺に預けられるという経緯が語られており、その結果、地域内で彼への同情や複雑な感情が生じたとされています。\n庵と憤死の伝説\n若和尚は、当時村の中心であった『受の口』地区を見下ろす山頂に庵を構え、日々赤水の景色を眺めながら自身の潔白を訴えたという伝説も伝わっています。最終的には、その苦悩の果てに憤死したと語られ、これが一層悲劇的な物語として地域に刻まれています。\n\n\n地蔵建立の意味と地域の信仰\n\n供養と謝罪の意\n伝承によれば、赤水村の人々は、伊形から赤水へと向かって夜な夜な飛来する怪火に恐れを抱いていました。これに加え、若和尚に対する何らかの「謝罪」の意味も込められており、その鎮魂のためにこの立派な石造りの地蔵が建立されたとされています。\n施主の名前が刻まれていない理由\n地元では、この地蔵には施主の名前が刻まれていないことが特徴とされています。これは、個人の功績や名誉ではなく、地域全体の祈りや償い、そして伝承に基づいた供養の意が前面に出されていることを示しています。\n\n\n関連する行事・儀式とその変遷\n\n庚申講の中断\n伝承の中には、地域で行われていた「庚申講」にも触れられています。お庚申さんを祀るこの講は、かつては地域の信仰行事として重要視されていましたが、明治初年に刃傷沙汰が起こったことを契機に中断されました。これにより、伝統的な儀式が歴史の一部として語られるとともに、その中断の背景も伝えられています。\n\n\n赤水興禅寺の五輪塔との関連\n\n五輪塔の存在と意味\nまた、伝承の中で赤水興禅寺にある五輪塔についても言及されています。天文銘が刻まれたこの五輪塔は、無縫塔が建立された翌年に造立されたとされ、地域での供養が正式な形で行われた証と解釈されています。これにより、地元の伝承が一つの歴史的事実として認識される側面が強調されています。
URL:https://nobeoka-shidankai.com/event/%e6%ad%b4%e5%8f%b2%e3%83%bb%e5%9c%b0%e7%90%86%e9%a0%98%e5%9f%9f%e4%be%8b%e4%bc%9a/
LOCATION:上伊形地区
END:VEVENT
BEGIN:VEVENT
DTSTART;TZID=Asia/Tokyo:20250209T133000
DTEND;TZID=Asia/Tokyo:20250209T160000
DTSTAMP:20260425T220753
CREATED:20250111T143520Z
LAST-MODIFIED:20250205T032549Z
UID:1012-1739107800-1739116800@nobeoka-shidankai.com
SUMMARY:古文書例会(中止になりました)
DESCRIPTION:この日の古文書例会は中止となりました。
URL:https://nobeoka-shidankai.com/event/%e5%8f%a4%e6%96%87%e6%9b%b8%e4%be%8b%e4%bc%9a-2/
LOCATION:延岡市社会教育センター\, 延岡市本小路39番地1\, 延岡市\, 宮崎県\, 882-0812\, 日本
ORGANIZER;CN="%E5%8F%B2%E8%AB%87%E4%BC%9A":MAILTO:purelatitude0728@gmail.com
END:VEVENT
BEGIN:VEVENT
DTSTART;TZID=Asia/Tokyo:20250210T100000
DTEND;TZID=Asia/Tokyo:20250210T160000
DTSTAMP:20260425T220753
CREATED:20250111T144020Z
LAST-MODIFIED:20250202T131821Z
UID:1014-1739181600-1739203200@nobeoka-shidankai.com
SUMMARY:「延岡花物語」本東寺観梅会史跡案内
DESCRIPTION:場所：本東寺・松尾城\n時間：10:00AM～4:00PM \n実行委員スケジュール\n9:30集合\n10:00～12:00　午前案内\n12:00～13:00　昼食\n13:00～16:00　午後案内\n16:30解散
URL:https://nobeoka-shidankai.com/event/%e3%80%8c%e5%bb%b6%e5%b2%a1%e8%8a%b1%e7%89%a9%e8%aa%9e%e3%80%8d%e6%9c%ac%e6%9d%b1%e5%af%ba%e8%a6%b3%e6%a2%85%e4%bc%9a%e5%8f%b2%e8%b7%a1%e6%a1%88%e5%86%85/
LOCATION:本東寺、松尾城\, 松山町１１３３\, 延岡市\, 宮崎県\, 8820062\, Japan
ORGANIZER;CN="%E5%8F%B2%E8%AB%87%E4%BC%9A":MAILTO:purelatitude0728@gmail.com
END:VEVENT
BEGIN:VEVENT
DTSTART;TZID=Asia/Tokyo:20250211T100000
DTEND;TZID=Asia/Tokyo:20250211T110000
DTSTAMP:20260425T220753
CREATED:20250111T144452Z
LAST-MODIFIED:20250205T134528Z
UID:1018-1739268000-1739271600@nobeoka-shidankai.com
SUMMARY:国と市の誕生日を祝う会
DESCRIPTION:建国記念日であるこの日\n延岡では、「国と市の誕生日を祝う会」が今山八幡宮で行われます。 \nこの会の主催者は、「国と市の誕生日を祝う会実行委員会」です。 \n延岡史談会からは、甲斐典明会長が出席します。
URL:https://nobeoka-shidankai.com/event/%e5%9b%bd%e3%81%a8%e5%bb%b6%e5%b2%a1%e5%b8%82%e3%81%ae%e8%aa%95%e7%94%9f%e3%82%92%e7%a5%9d%e3%81%86%e4%bc%9a/
LOCATION:今山八幡宮
END:VEVENT
BEGIN:VEVENT
DTSTART;TZID=Asia/Tokyo:20250211T100000
DTEND;TZID=Asia/Tokyo:20250211T160000
DTSTAMP:20260425T220753
CREATED:20250111T144238Z
LAST-MODIFIED:20250202T131733Z
UID:1016-1739268000-1739289600@nobeoka-shidankai.com
SUMMARY:「延岡花物語」本東寺観梅会史跡案内
DESCRIPTION:場所：本東寺・松尾城\n時間：10:00AM～4:00PM \n実行委員スケジュール\n9:30集合\n10:00～12:00　午前案内\n12:00～13:00　昼食\n13:00～16:00　午後案内\n16:30解散
URL:https://nobeoka-shidankai.com/event/%e3%80%8c%e5%bb%b6%e5%b2%a1%e8%8a%b1%e7%89%a9%e8%aa%9e%e3%80%8d%e6%9c%ac%e6%9d%b1%e5%af%ba%e8%a6%b3%e6%a2%85%e4%bc%9a%e5%8f%b2%e8%b7%a1%e6%a1%88%e5%86%85-2/
LOCATION:本東寺、松尾城\, 松山町１１３３\, 延岡市\, 宮崎県\, 8820062\, Japan
ORGANIZER;CN="%E5%8F%B2%E8%AB%87%E4%BC%9A":MAILTO:purelatitude0728@gmail.com
END:VEVENT
BEGIN:VEVENT
DTSTART;TZID=Asia/Tokyo:20250216T133000
DTEND;TZID=Asia/Tokyo:20250216T160000
DTSTAMP:20260425T220753
CREATED:20250205T033044Z
LAST-MODIFIED:20250205T033044Z
UID:1119-1739712600-1739721600@nobeoka-shidankai.com
SUMMARY:第４回山室元吉作品翻刻目録作成委員会
DESCRIPTION:
URL:https://nobeoka-shidankai.com/event/%e7%ac%ac%ef%bc%94%e5%9b%9e%e5%b1%b1%e5%ae%a4%e5%85%83%e5%90%89%e4%bd%9c%e5%93%81%e7%bf%bb%e5%88%bb%e7%9b%ae%e9%8c%b2%e4%bd%9c%e6%88%90%e5%a7%94%e5%93%a1%e4%bc%9a/
LOCATION:延岡市社会教育センター\, 延岡市本小路39番地1\, 延岡市\, 宮崎県\, 882-0812\, 日本
ORGANIZER;CN="%E5%8F%B2%E8%AB%87%E4%BC%9A":MAILTO:purelatitude0728@gmail.com
END:VEVENT
BEGIN:VEVENT
DTSTART;VALUE=DATE:20250228
DTEND;VALUE=DATE:20250301
DTSTAMP:20260425T220753
CREATED:20250205T033630Z
LAST-MODIFIED:20250205T034556Z
UID:1121-1740700800-1740787199@nobeoka-shidankai.com
SUMMARY:後藤勇吉98回忌慰霊祭
DESCRIPTION:会長出席\n11時半から⇒終了時刻が不明
URL:https://nobeoka-shidankai.com/event/%e5%be%8c%e8%97%a4%e5%8b%87%e5%90%8998%e5%9b%9e%e5%bf%8c%e6%85%b0%e9%9c%8a%e7%a5%ad/
LOCATION:妙田緑地公園\, 長浜町3-1954-5\, 延岡市\, 宮崎県\, 8820854
END:VEVENT
BEGIN:VEVENT
DTSTART;TZID=Asia/Tokyo:20250302T130000
DTEND;TZID=Asia/Tokyo:20250302T150000
DTSTAMP:20260425T220753
CREATED:20250205T033959Z
LAST-MODIFIED:20250205T033959Z
UID:1128-1740920400-1740927600@nobeoka-shidankai.com
SUMMARY:民俗領域例会
DESCRIPTION:
URL:https://nobeoka-shidankai.com/event/%e6%b0%91%e4%bf%97%e9%a0%98%e5%9f%9f%e4%be%8b%e4%bc%9a/
LOCATION:延岡市民協働まちづくりセンター\, 東本小路131番地5\, 延岡市\, 宮崎県\, Japan
ORGANIZER;CN="%E5%8F%B2%E8%AB%87%E4%BC%9A":MAILTO:purelatitude0728@gmail.com
END:VEVENT
BEGIN:VEVENT
DTSTART;TZID=Asia/Tokyo:20250302T140000
DTEND;TZID=Asia/Tokyo:20250302T150000
DTSTAMP:20260425T220753
CREATED:20250205T033742Z
LAST-MODIFIED:20250227T115051Z
UID:1124-1740924000-1740927600@nobeoka-shidankai.com
SUMMARY:第11回ブラアガタ事後実行委員会③
DESCRIPTION:会議室３
URL:https://nobeoka-shidankai.com/event/%e7%ac%ac11%e5%9b%9e%e3%83%96%e3%83%a9%e3%82%a2%e3%82%ac%e3%82%bf%e4%ba%8b%e5%be%8c%e5%ae%9f%e8%a1%8c%e5%a7%94%e5%93%a1%e4%bc%9a%e2%91%a2/
LOCATION:延岡市社会教育センター\, 延岡市本小路39番地1\, 延岡市\, 宮崎県\, 882-0812\, 日本
ORGANIZER;CN="%E5%8F%B2%E8%AB%87%E4%BC%9A":MAILTO:purelatitude0728@gmail.com
END:VEVENT
BEGIN:VEVENT
DTSTART;TZID=Asia/Tokyo:20250302T150000
DTEND;TZID=Asia/Tokyo:20250302T160000
DTSTAMP:20260425T220753
CREATED:20250205T033841Z
LAST-MODIFIED:20250227T115205Z
UID:1126-1740927600-1740931200@nobeoka-shidankai.com
SUMMARY:第12回定例役員会
DESCRIPTION:会議室３
URL:https://nobeoka-shidankai.com/event/%e7%ac%ac12%e5%9b%9e%e5%ae%9a%e4%be%8b%e5%bd%b9%e5%93%a1%e4%bc%9a/
LOCATION:延岡市社会教育センター\, 延岡市本小路39番地1\, 延岡市\, 宮崎県\, 882-0812\, 日本
END:VEVENT
BEGIN:VEVENT
DTSTART;TZID=Asia/Tokyo:20250309T100000
DTEND;TZID=Asia/Tokyo:20250309T113000
DTSTAMP:20260425T220753
CREATED:20250308T110334Z
LAST-MODIFIED:20250425T122641Z
UID:1242-1741514400-1741519800@nobeoka-shidankai.com
SUMMARY:『縣』34号第1回編集委員会
DESCRIPTION:甲斐典明、北原、白尾、横川　（敬称略）その他別途設定に川中
URL:https://nobeoka-shidankai.com/event/%e3%80%8e%e7%b8%a3%e3%80%8f34%e5%8f%b7%e7%ac%ac1%e5%9b%9e%e7%b7%a8%e9%9b%86%e5%a7%94%e5%93%a1%e4%bc%9a/
LOCATION:延岡市社会教育センター\, 延岡市本小路39番地1\, 延岡市\, 宮崎県\, 882-0812\, 日本
ORGANIZER;CN="%E5%8F%B2%E8%AB%87%E4%BC%9A":MAILTO:purelatitude0728@gmail.com
END:VEVENT
BEGIN:VEVENT
DTSTART;TZID=Asia/Tokyo:20250309T133000
DTEND;TZID=Asia/Tokyo:20250309T153000
DTSTAMP:20260425T220753
CREATED:20250205T034134Z
LAST-MODIFIED:20250205T034134Z
UID:1130-1741527000-1741534200@nobeoka-shidankai.com
SUMMARY:古文書例会
DESCRIPTION:
URL:https://nobeoka-shidankai.com/event/%e5%8f%a4%e6%96%87%e6%9b%b8%e4%be%8b%e4%bc%9a-3/
LOCATION:延岡市社会教育センター\, 延岡市本小路39番地1\, 延岡市\, 宮崎県\, 882-0812\, 日本
END:VEVENT
BEGIN:VEVENT
DTSTART;VALUE=DATE:20250314
DTEND;VALUE=DATE:20250315
DTSTAMP:20260425T220753
CREATED:20250220T095124Z
LAST-MODIFIED:20250220T095124Z
UID:1228-1741910400-1741996799@nobeoka-shidankai.com
SUMMARY:『縣』24号原稿〆切
DESCRIPTION:多くの原稿をお願い致します。
URL:https://nobeoka-shidankai.com/event/%e3%80%8e%e7%b8%a3%e3%80%8f24%e5%8f%b7%e5%8e%9f%e7%a8%bf%e3%80%86%e5%88%87/
LOCATION:宮崎県
END:VEVENT
BEGIN:VEVENT
DTSTART;TZID=Asia/Tokyo:20250316T133000
DTEND;TZID=Asia/Tokyo:20250316T160000
DTSTAMP:20260425T220753
CREATED:20250205T034222Z
LAST-MODIFIED:20250303T141504Z
UID:1132-1742131800-1742140800@nobeoka-shidankai.com
SUMMARY:領域研究発表会
DESCRIPTION:発表者と演題 \n歴史地理　小野副会長　「延岡南部伊形・土々呂地域の史跡・石造物・寺社・民俗」調査報告\n民　　俗　磯貝理事　　「延岡地方の石の文化と水神信仰」調査報告\n古  文  書　佐藤理事　　「豊後百姓騒動」 \n次第（時刻は若干前後します）\n13:00　受付開始\n13:30　歴史地理\n14:20　民俗\n15:10　古文書\n16:00　閉会
URL:https://nobeoka-shidankai.com/event/%e9%a0%98%e5%9f%9f%e7%a0%94%e7%a9%b6%e7%99%ba%e8%a1%a8%e4%bc%9a/
LOCATION:延岡市社会教育センター\, 延岡市本小路39番地1\, 延岡市\, 宮崎県\, 882-0812\, 日本
END:VEVENT
BEGIN:VEVENT
DTSTART;TZID=Asia/Tokyo:20250406T140000
DTEND;TZID=Asia/Tokyo:20250406T153000
DTSTAMP:20260425T220753
CREATED:20250425T113103Z
LAST-MODIFIED:20250425T122612Z
UID:1285-1743948000-1743953400@nobeoka-shidankai.com
SUMMARY:令和７年度　第１回定例役員会
DESCRIPTION:
URL:https://nobeoka-shidankai.com/event/%e4%bb%a4%e5%92%8c%ef%bc%97%e5%b9%b4%e5%ba%a6%e3%80%80%e7%ac%ac%ef%bc%91%e5%9b%9e%e5%ae%9a%e4%be%8b%e5%bd%b9%e5%93%a1%e4%bc%9a/
LOCATION:延岡市民協働まちづくりセンター\, 東本小路131番地5\, 延岡市\, 宮崎県\, Japan
ORGANIZER;CN="%E5%8F%B2%E8%AB%87%E4%BC%9A":MAILTO:purelatitude0728@gmail.com
END:VEVENT
BEGIN:VEVENT
DTSTART;TZID=Asia/Tokyo:20250426T140000
DTEND;TZID=Asia/Tokyo:20250426T160000
DTSTAMP:20260425T220753
CREATED:20250425T112146Z
LAST-MODIFIED:20250425T122547Z
UID:1281-1745676000-1745683200@nobeoka-shidankai.com
SUMMARY:『縣』34号第２回編集委員会
DESCRIPTION:延岡市社会教育センター１階会議室１
URL:https://nobeoka-shidankai.com/event/%e7%ac%ac%ef%bc%92%e5%9b%9e%e3%80%80%e3%80%8e%e7%b8%a3%e3%80%8f%e7%b7%a8%e9%9b%86%e5%a7%94%e5%93%a1%e4%bc%9a/
LOCATION:延岡市社会教育センター１階会議室１\, 本小路39番地1\, 延岡市\, 宮崎県\, 8820856
END:VEVENT
BEGIN:VEVENT
DTSTART;TZID=Asia/Tokyo:20250511T100000
DTEND;TZID=Asia/Tokyo:20250511T113000
DTSTAMP:20260425T220753
CREATED:20250425T113247Z
LAST-MODIFIED:20250425T122506Z
UID:1287-1746957600-1746963000@nobeoka-shidankai.com
SUMMARY:令和７年度　第２回定例役員会
DESCRIPTION:
URL:https://nobeoka-shidankai.com/event/%e4%bb%a4%e5%92%8c%ef%bc%97%e5%b9%b4%e5%ba%a6%e3%80%80%e7%ac%ac%ef%bc%92%e5%9b%9e%e5%ae%9a%e4%be%8b%e5%bd%b9%e5%93%a1%e4%bc%9a/
LOCATION:延岡市民協働まちづくりセンター\, 東本小路131番地5\, 延岡市\, 宮崎県\, Japan
ORGANIZER;CN="%E5%8F%B2%E8%AB%87%E4%BC%9A":MAILTO:purelatitude0728@gmail.com
END:VEVENT
BEGIN:VEVENT
DTSTART;TZID=Asia/Tokyo:20250518T093000
DTEND;TZID=Asia/Tokyo:20250518T110000
DTSTAMP:20260425T220753
CREATED:20250430T032358Z
LAST-MODIFIED:20250430T033750Z
UID:1298-1747560600-1747566000@nobeoka-shidankai.com
SUMMARY:令和7年度　第１回ブラアガタ実行委員会
DESCRIPTION:
URL:https://nobeoka-shidankai.com/event/%e4%bb%a4%e5%92%8c7%e5%b9%b4%e5%ba%a6%e3%80%80%e7%ac%ac%ef%bc%91%e5%9b%9e%e3%83%96%e3%83%a9%e3%82%a2%e3%82%ac%e3%82%bf%e5%ae%9f%e8%a1%8c%e5%a7%94%e5%93%a1%e4%bc%9a/
LOCATION:延岡市社会教育センター２階　研修室２\, 本小路39-1\, 延岡市\, 宮崎県\, 8820821
END:VEVENT
BEGIN:VEVENT
DTSTART;TZID=Asia/Tokyo:20250524T140000
DTEND;TZID=Asia/Tokyo:20250524T153000
DTSTAMP:20260425T220753
CREATED:20250415T152410Z
LAST-MODIFIED:20250603T003723Z
UID:1260-1748095200-1748100600@nobeoka-shidankai.com
SUMMARY:延岡史談会令和７年度総会
DESCRIPTION:
URL:https://nobeoka-shidankai.com/event/%e5%bb%b6%e5%b2%a1%e5%8f%b2%e8%ab%87%e4%bc%9a%e4%bb%a4%e5%92%8c%ef%bc%97%e5%b9%b4%e5%ba%a6%e7%b7%8f%e4%bc%9a/
LOCATION:延岡市社会教育センター\, 延岡市本小路39番地1\, 延岡市\, 宮崎県\, 882-0812\, 日本
ORGANIZER;CN="%E5%8F%B2%E8%AB%87%E4%BC%9A":MAILTO:purelatitude0728@gmail.com
END:VEVENT
BEGIN:VEVENT
DTSTART;TZID=Asia/Tokyo:20250601T100000
DTEND;TZID=Asia/Tokyo:20250601T113000
DTSTAMP:20260425T220753
CREATED:20250603T002806Z
LAST-MODIFIED:20250603T003050Z
UID:1331-1748772000-1748777400@nobeoka-shidankai.com
SUMMARY:令和７年度　第３回定例役員会
DESCRIPTION:
URL:https://nobeoka-shidankai.com/event/%e4%bb%a4%e5%92%8c%ef%bc%97%e5%b9%b4%e5%ba%a6%e3%80%80%e7%ac%ac%ef%bc%93%e5%9b%9e%e5%ae%9a%e4%be%8b%e5%bd%b9%e5%93%a1%e4%bc%9a/
LOCATION:延岡市民協働まちづくりセンター\, 東本小路131番地5\, 延岡市\, 宮崎県\, Japan
END:VEVENT
BEGIN:VEVENT
DTSTART;TZID=Asia/Tokyo:20250608T100000
DTEND;TZID=Asia/Tokyo:20250608T113000
DTSTAMP:20260425T220753
CREATED:20250520T115724Z
LAST-MODIFIED:20250603T003342Z
UID:1306-1749376800-1749382200@nobeoka-shidankai.com
SUMMARY:令和7年度　第２回ブラアガタ実行委員会
DESCRIPTION:
URL:https://nobeoka-shidankai.com/event/%e4%bb%a4%e5%92%8c7%e5%b9%b4%e5%ba%a6%e3%80%80%e7%ac%ac%ef%bc%91%e5%9b%9e%e3%83%96%e3%83%a9%e3%82%a2%e3%82%ac%e3%82%bf%e5%ae%9f%e8%a1%8c%e5%a7%94%e5%93%a1%e4%bc%9a-2/
LOCATION:延岡市社会教育センター3階研修室4\, 延岡市本小路39番地1\, 延岡市\, 日本
ORGANIZER;CN="%E5%8F%B2%E8%AB%87%E4%BC%9A":MAILTO:purelatitude0728@gmail.com
END:VEVENT
BEGIN:VEVENT
DTSTART;TZID=Asia/Tokyo:20250622T140000
DTEND;TZID=Asia/Tokyo:20250622T153000
DTSTAMP:20260425T220753
CREATED:20250526T025200Z
LAST-MODIFIED:20250608T105215Z
UID:1308-1750600800-1750606200@nobeoka-shidankai.com
SUMMARY:延岡史談会創立90周年記念第１回公開講演会
DESCRIPTION:実施日　令和７年６月２２日（日）\n場所　延岡市社会教育センター　研修室１\n講師\n　　　湯川拓未氏（延岡市立図書館主任主事、司書）\n　　　仮題「レポートを９０周年記念誌『縣』３５号に投稿してみよう」\n日程\n　　13:30　受付開始（資料代が２００円必要です）\n　　14:00　開会行事\n　　　・会長挨拶\n　　　・講師紹介\n　　14:05　講演（グループワーク含む）\n　　15:30　閉会行事\n問合せ先\n事務局　宮田　090-9407-8872\n 
URL:https://nobeoka-shidankai.com/event/%e5%bb%b6%e5%b2%a1%e5%8f%b2%e8%ab%87%e4%bc%9a%e5%89%b5%e7%ab%8b90%e5%91%a8%e5%b9%b4%e8%a8%98%e5%bf%b5%e8%ac%9b%e6%bc%94%e4%bc%9a%e3%80%80%e7%ac%ac%ef%bc%91%e5%9b%9e/
LOCATION:延岡市社会教育センター1階研修室1\, 延岡市本小路39番地1\, 延岡市\, 日本
ORGANIZER;CN="%E5%8F%B2%E8%AB%87%E4%BC%9A":MAILTO:purelatitude0728@gmail.com
END:VEVENT
BEGIN:VEVENT
DTSTART;TZID=Asia/Tokyo:20250713T100000
DTEND;TZID=Asia/Tokyo:20250713T113000
DTSTAMP:20260425T220753
CREATED:20250704T034742Z
LAST-MODIFIED:20250704T034902Z
UID:1364-1752400800-1752406200@nobeoka-shidankai.com
SUMMARY:令和７年度　第４回定例役員会
DESCRIPTION:10:00～11:30\n市民協働まちづくりセンター　小会議室１
URL:https://nobeoka-shidankai.com/event/%e4%bb%a4%e5%92%8c7%e5%b9%b4%e5%ba%a6%e3%80%80%e7%ac%ac3%e5%9b%9e%e3%83%96%e3%83%a9%e3%82%a2%e3%82%ac%e3%82%bf%e5%ae%9f%e8%a1%8c%e5%a7%94%e5%93%a1%e4%bc%9a/
LOCATION:延岡市社会教育センター\, 延岡市本小路39番地1\, 延岡市\, 宮崎県\, 882-0812\, 日本
END:VEVENT
BEGIN:VEVENT
DTSTART;TZID=Asia/Tokyo:20250726T180000
DTEND;TZID=Asia/Tokyo:20250726T210000
DTSTAMP:20260425T220753
CREATED:20250714T124617Z
LAST-MODIFIED:20250719T065633Z
UID:1372-1753552800-1753563600@nobeoka-shidankai.com
SUMMARY:延岡城CG ＆ ブラアガタ上映会
DESCRIPTION:◆日時：7月26日(土)16:00～18:55\n◆上映：16:00より毎時、00分･30分上映開始。\n最終は18:30〜。\n1回目16:00～16:25\n2回目16:30～16:55\n3回目17:00～17:25\n4回目17:30～17:55\n5回目18:00～18:25\n6回目18:30～18:55\n◆会場：野口遵記念館フリースペースB キャパ37\n◆備考\n①関係者の集合時間や駐車場などについては、別途、連絡します。\n②「まつりのべおか」ホームページの＜延岡城CG&ブラアガタ上映＞PRはこちらです。\nhttps://www.facebook.com/share/v/1Aud1X1pfK/
URL:https://nobeoka-shidankai.com/event/%e5%bb%b6%e5%b2%a1%e5%9f%8ecg-%ef%bc%86-%e3%83%96%e3%83%a9%e3%82%a2%e3%82%ac%e3%82%bf%e4%b8%8a%e6%98%a0%e4%bc%9a/
LOCATION:野口遵記念館フリースペース\, 東本小路１１９−１\, 延岡市\, 宮崎県\, 8820813
END:VEVENT
END:VCALENDAR