BEGIN:VCALENDAR
VERSION:2.0
PRODID:-//延岡史談会 - ECPv6.13.1//NONSGML v1.0//EN
CALSCALE:GREGORIAN
METHOD:PUBLISH
X-WR-CALNAME:延岡史談会
X-ORIGINAL-URL:https://nobeoka-shidankai.com
X-WR-CALDESC:延岡史談会 のイベント
REFRESH-INTERVAL;VALUE=DURATION:PT1H
X-Robots-Tag:noindex
X-PUBLISHED-TTL:PT1H
BEGIN:VTIMEZONE
TZID:Asia/Tokyo
BEGIN:STANDARD
TZOFFSETFROM:+0900
TZOFFSETTO:+0900
TZNAME:JST
DTSTART:20240101T000000
END:STANDARD
END:VTIMEZONE
BEGIN:VEVENT
DTSTART;TZID=Asia/Tokyo:20240804T100000
DTEND;TZID=Asia/Tokyo:20240804T230000
DTSTAMP:20260425T220623
CREATED:20240815T075816Z
LAST-MODIFIED:20241130T121222Z
UID:427-1722765600-1722812400@nobeoka-shidankai.com
SUMMARY:第5回役員会
DESCRIPTION:
URL:https://nobeoka-shidankai.com/event/%e7%ac%ac5%e5%9b%9e%e5%bd%b9%e5%93%a1%e4%bc%9a/
LOCATION:延岡市民協働まちづくりセンター\, 東本小路131番地5\, 延岡市\, 宮崎県\, Japan
END:VEVENT
BEGIN:VEVENT
DTSTART;VALUE=DATE:20240810
DTEND;VALUE=DATE:20240811
DTSTAMP:20260425T220623
CREATED:20240815T075937Z
LAST-MODIFIED:20240815T075937Z
UID:432-1723248000-1723334399@nobeoka-shidankai.com
SUMMARY:延岡市史編纂事業関連事業二件の参加者募集〆切
DESCRIPTION:
URL:https://nobeoka-shidankai.com/event/%e5%bb%b6%e5%b2%a1%e5%b8%82%e5%8f%b2%e7%b7%a8%e7%ba%82%e4%ba%8b%e6%a5%ad%e9%96%a2%e9%80%a3%e4%ba%8b%e6%a5%ad%e4%ba%8c%e4%bb%b6%e3%81%ae%e5%8f%82%e5%8a%a0%e8%80%85%e5%8b%9f%e9%9b%86%e3%80%86%e5%88%87/
LOCATION:宮崎県
END:VEVENT
BEGIN:VEVENT
DTSTART;TZID=Asia/Tokyo:20240818T140000
DTEND;TZID=Asia/Tokyo:20240818T153000
DTSTAMP:20260425T220623
CREATED:20240815T080321Z
LAST-MODIFIED:20241130T121304Z
UID:434-1723989600-1723995000@nobeoka-shidankai.com
SUMMARY:第3回公開講演会
DESCRIPTION:講 師：古林 直基 氏(高鍋町教育委員会)\n演 題：「鳥羽伏見戦争と延岡藩」\n後 援：宮崎日日新聞社、夕刊デイリー新聞社、ケーブルメディアワイワイ \n本報告は、慶応３年（1867）の大政奉還後から鳥羽伏見戦争に至る延岡藩（内藤家７万石）の動向について、藩主名代として上京を命じられた中老原小太郎に着目しながら、検討するものです。特に、当該期の政局認識については、延岡藩が抱いていた「公議」意識の観点に加え、譜代藩として徳川家に求めた「條理」の観点から考えていきます。 \n＜講師紹介＞\n延岡市出身。福岡大学人文学部歴史学科卒業、大学院博士課程前期修了、後期在学中。文学修士。これまでほとんどなされてこなかった幕末維新期の延岡藩、内藤家の政治史研究に取り組む新進気鋭の研究者です。\n＜論文＞\n「大政奉還後における延岡藩の政治行動－「公議」意識と「條理」の観点を中心に－」（『明治維新史研究』19 2021）、「第二次長州出兵における延岡藩－芸州口出兵をめぐる動向を中心に－」(『福岡大学大学院論集』54 2022)など。
URL:https://nobeoka-shidankai.com/event/%e7%ac%ac3%e5%9b%9e%e5%85%ac%e9%96%8b%e8%ac%9b%e6%bc%94%e4%bc%9a/
LOCATION:延岡市社会教育センター\, 延岡市本小路39番地1\, 延岡市\, 宮崎県\, 882-0812\, 日本
END:VEVENT
BEGIN:VEVENT
DTSTART;TZID=Asia/Tokyo:20240828T143000
DTEND;TZID=Asia/Tokyo:20240828T153000
DTSTAMP:20260425T220623
CREATED:20240815T080604Z
LAST-MODIFIED:20240826T095305Z
UID:440-1724855400-1724859000@nobeoka-shidankai.com
SUMMARY:第2回歴史領域実行委員会⇒９月11日に延期
DESCRIPTION:台風１０号接近のため９月４日に延期になりました
URL:https://nobeoka-shidankai.com/event/%e7%ac%ac2%e5%9b%9e%e6%ad%b4%e5%8f%b2%e9%a0%98%e5%9f%9f%e5%ae%9f%e8%a1%8c%e5%a7%94%e5%93%a1%e4%bc%9a/
LOCATION:延岡市社会教育センター\, 延岡市本小路39番地1\, 延岡市\, 宮崎県\, 882-0812\, 日本
END:VEVENT
END:VCALENDAR