BEGIN:VCALENDAR
VERSION:2.0
PRODID:-//延岡史談会 - ECPv6.13.1//NONSGML v1.0//EN
CALSCALE:GREGORIAN
METHOD:PUBLISH
X-ORIGINAL-URL:https://nobeoka-shidankai.com
X-WR-CALDESC:延岡史談会 のイベント
REFRESH-INTERVAL;VALUE=DURATION:PT1H
X-Robots-Tag:noindex
X-PUBLISHED-TTL:PT1H
BEGIN:VTIMEZONE
TZID:Asia/Tokyo
BEGIN:STANDARD
TZOFFSETFROM:+0900
TZOFFSETTO:+0900
TZNAME:JST
DTSTART:20240101T000000
END:STANDARD
END:VTIMEZONE
BEGIN:VEVENT
DTSTART;TZID=Asia/Tokyo:20240901T100000
DTEND;TZID=Asia/Tokyo:20240901T233000
DTSTAMP:20260425T204942
CREATED:20240815T080717Z
LAST-MODIFIED:20241130T121158Z
UID:442-1725184800-1725233400@nobeoka-shidankai.com
SUMMARY:第6回役員会
DESCRIPTION:
URL:https://nobeoka-shidankai.com/event/%e7%ac%ac6%e5%9b%9e%e5%bd%b9%e5%93%a1%e4%bc%9a/
LOCATION:延岡市民協働まちづくりセンター\, 東本小路131番地5\, 延岡市\, 宮崎県\, Japan
END:VEVENT
BEGIN:VEVENT
DTSTART;TZID=Asia/Tokyo:20240908T100000
DTEND;TZID=Asia/Tokyo:20240908T120000
DTSTAMP:20260425T204942
CREATED:20240821T095618Z
LAST-MODIFIED:20241130T103442Z
UID:565-1725789600-1725796800@nobeoka-shidankai.com
SUMMARY:第1回のべおかさるきブラアガタ実行委員会
DESCRIPTION:
URL:https://nobeoka-shidankai.com/event/%e7%ac%ac1%e5%9b%9e%e3%81%ae%e3%81%b9%e3%81%8a%e3%81%8b%e3%81%95%e3%82%8b%e3%81%8d%e3%83%96%e3%83%a9%e3%82%a2%e3%82%ac%e3%82%bf%e5%ae%9f%e8%a1%8c%e5%a7%94%e5%93%a1%e4%bc%9a/
LOCATION:延岡市社会教育センター\, 延岡市本小路39番地1\, 延岡市\, 宮崎県\, 882-0812\, 日本
END:VEVENT
BEGIN:VEVENT
DTSTART;TZID=Asia/Tokyo:20240911T140000
DTEND;TZID=Asia/Tokyo:20240911T153000
DTSTAMP:20260425T204942
CREATED:20240826T071707Z
LAST-MODIFIED:20240826T095220Z
UID:703-1726063200-1726068600@nobeoka-shidankai.com
SUMMARY:第2回歴史領域実行委員会
DESCRIPTION:
URL:https://nobeoka-shidankai.com/event/%e7%ac%ac2%e5%9b%9e%e6%ad%b4%e5%8f%b2%e9%a0%98%e5%9f%9f%e5%ae%9f%e8%a1%8c%e5%a7%94%e5%93%a1%e4%bc%9a-2/
LOCATION:延岡市社会教育センター\, 延岡市本小路39番地1\, 延岡市\, 宮崎県\, 882-0812\, 日本
END:VEVENT
BEGIN:VEVENT
DTSTART;TZID=Asia/Tokyo:20240922T100000
DTEND;TZID=Asia/Tokyo:20240922T120000
DTSTAMP:20260425T204942
CREATED:20240901T011145Z
LAST-MODIFIED:20240901T011329Z
UID:756-1726999200-1727006400@nobeoka-shidankai.com
SUMMARY:古文書例会
DESCRIPTION:
URL:https://nobeoka-shidankai.com/event/%e5%8f%a4%e6%96%87%e6%9b%b8%e4%be%8b%e4%bc%9a/
LOCATION:延岡市社会教育センター\, 延岡市本小路39番地1\, 延岡市\, 宮崎県\, 882-0812\, 日本
ORGANIZER;CN="%E5%8F%B2%E8%AB%87%E4%BC%9A":MAILTO:purelatitude0728@gmail.com
END:VEVENT
BEGIN:VEVENT
DTSTART;TZID=Asia/Tokyo:20240928T100000
DTEND;TZID=Asia/Tokyo:20240928T100000
DTSTAMP:20260425T204942
CREATED:20241208T135421Z
LAST-MODIFIED:20241208T140914Z
UID:932-1727517600-1727517600@nobeoka-shidankai.com
SUMMARY:キリシタンと関係ある延岡の史跡をご案内しました
DESCRIPTION:日　時：9月28日(土)10:00～14:00\n会　場：無鹿軍営跡、城影寺、松尾城\n宮崎市、日南市、日向市から来延されたキリシタン史に興味をお持ちの方々4名のご依頼により、天正6年(1578)のキリシタン大名豊後大友氏による縣(あがた、延岡の当時の地名)侵攻で落城した縣土持氏の居城松尾城、縣制圧後に大友宗麟が教会堂を築きミサを執り行ったと伝わる無鹿軍営の跡、江戸時代初期の天草の乱に参戦した有馬家延岡藩戦没者碑のある城影寺をご案内しました。
URL:https://nobeoka-shidankai.com/event/%e3%82%ad%e3%83%aa%e3%82%b7%e3%82%bf%e3%83%b3%e3%81%a8%e9%96%a2%e4%bf%82%e3%81%82%e3%82%8b%e5%bb%b6%e5%b2%a1%e3%81%ae%e5%8f%b2%e8%b7%a1%e3%82%92%e3%81%94%e6%a1%88%e5%86%85%e3%81%97%e3%81%be%e3%81%97/
LOCATION:無鹿軍営跡、城影寺、松尾城
END:VEVENT
BEGIN:VEVENT
DTSTART;TZID=Asia/Tokyo:20240929T100000
DTEND;TZID=Asia/Tokyo:20240929T120000
DTSTAMP:20260425T204942
CREATED:20240910T080534Z
LAST-MODIFIED:20241130T103523Z
UID:775-1727604000-1727611200@nobeoka-shidankai.com
SUMMARY:第2回のべおかさるきブラアガタ実行委員会
DESCRIPTION:会議メモ
URL:https://nobeoka-shidankai.com/event/%e7%ac%ac2%e5%9b%9e%e3%81%ae%e3%81%b9%e3%81%8a%e3%81%8b%e3%81%95%e3%82%8b%e3%81%8d%e3%83%96%e3%83%a9%e3%82%a2%e3%82%ac%e3%82%bf%e5%ae%9f%e8%a1%8c%e5%a7%94%e5%93%a1%e4%bc%9a/
LOCATION:延岡市社会教育センター\, 延岡市本小路39番地1\, 延岡市\, 宮崎県\, 882-0812\, 日本
END:VEVENT
END:VCALENDAR