BEGIN:VCALENDAR
VERSION:2.0
PRODID:-//延岡史談会 - ECPv6.13.1//NONSGML v1.0//EN
CALSCALE:GREGORIAN
METHOD:PUBLISH
X-WR-CALNAME:延岡史談会
X-ORIGINAL-URL:https://nobeoka-shidankai.com
X-WR-CALDESC:延岡史談会 のイベント
REFRESH-INTERVAL;VALUE=DURATION:PT1H
X-Robots-Tag:noindex
X-PUBLISHED-TTL:PT1H
BEGIN:VTIMEZONE
TZID:Asia/Tokyo
BEGIN:STANDARD
TZOFFSETFROM:+0900
TZOFFSETTO:+0900
TZNAME:JST
DTSTART:20250101T000000
END:STANDARD
END:VTIMEZONE
BEGIN:VEVENT
DTSTART;TZID=Asia/Tokyo:20250511T100000
DTEND;TZID=Asia/Tokyo:20250511T113000
DTSTAMP:20260425T113136
CREATED:20250425T113247Z
LAST-MODIFIED:20250425T122506Z
UID:1287-1746957600-1746963000@nobeoka-shidankai.com
SUMMARY:令和７年度　第２回定例役員会
DESCRIPTION:
URL:https://nobeoka-shidankai.com/event/%e4%bb%a4%e5%92%8c%ef%bc%97%e5%b9%b4%e5%ba%a6%e3%80%80%e7%ac%ac%ef%bc%92%e5%9b%9e%e5%ae%9a%e4%be%8b%e5%bd%b9%e5%93%a1%e4%bc%9a/
LOCATION:延岡市民協働まちづくりセンター\, 東本小路131番地5\, 延岡市\, 宮崎県\, Japan
ORGANIZER;CN="%E5%8F%B2%E8%AB%87%E4%BC%9A":MAILTO:purelatitude0728@gmail.com
END:VEVENT
BEGIN:VEVENT
DTSTART;TZID=Asia/Tokyo:20250518T093000
DTEND;TZID=Asia/Tokyo:20250518T110000
DTSTAMP:20260425T113136
CREATED:20250430T032358Z
LAST-MODIFIED:20250430T033750Z
UID:1298-1747560600-1747566000@nobeoka-shidankai.com
SUMMARY:令和7年度　第１回ブラアガタ実行委員会
DESCRIPTION:
URL:https://nobeoka-shidankai.com/event/%e4%bb%a4%e5%92%8c7%e5%b9%b4%e5%ba%a6%e3%80%80%e7%ac%ac%ef%bc%91%e5%9b%9e%e3%83%96%e3%83%a9%e3%82%a2%e3%82%ac%e3%82%bf%e5%ae%9f%e8%a1%8c%e5%a7%94%e5%93%a1%e4%bc%9a/
LOCATION:延岡市社会教育センター２階　研修室２\, 本小路39-1\, 延岡市\, 宮崎県\, 8820821
END:VEVENT
BEGIN:VEVENT
DTSTART;TZID=Asia/Tokyo:20250524T140000
DTEND;TZID=Asia/Tokyo:20250524T153000
DTSTAMP:20260425T113136
CREATED:20250415T152410Z
LAST-MODIFIED:20250603T003723Z
UID:1260-1748095200-1748100600@nobeoka-shidankai.com
SUMMARY:延岡史談会令和７年度総会
DESCRIPTION:
URL:https://nobeoka-shidankai.com/event/%e5%bb%b6%e5%b2%a1%e5%8f%b2%e8%ab%87%e4%bc%9a%e4%bb%a4%e5%92%8c%ef%bc%97%e5%b9%b4%e5%ba%a6%e7%b7%8f%e4%bc%9a/
LOCATION:延岡市社会教育センター\, 延岡市本小路39番地1\, 延岡市\, 宮崎県\, 882-0812\, 日本
ORGANIZER;CN="%E5%8F%B2%E8%AB%87%E4%BC%9A":MAILTO:purelatitude0728@gmail.com
END:VEVENT
END:VCALENDAR