BEGIN:VCALENDAR
VERSION:2.0
PRODID:-//延岡史談会 - ECPv6.13.1//NONSGML v1.0//EN
CALSCALE:GREGORIAN
METHOD:PUBLISH
X-ORIGINAL-URL:https://nobeoka-shidankai.com
X-WR-CALDESC:延岡史談会 のイベント
REFRESH-INTERVAL;VALUE=DURATION:PT1H
X-Robots-Tag:noindex
X-PUBLISHED-TTL:PT1H
BEGIN:VTIMEZONE
TZID:Asia/Tokyo
BEGIN:STANDARD
TZOFFSETFROM:+0900
TZOFFSETTO:+0900
TZNAME:JST
DTSTART:20260101T000000
END:STANDARD
END:VTIMEZONE
BEGIN:VEVENT
DTSTART;TZID=Asia/Tokyo:20260524T080000
DTEND;TZID=Asia/Tokyo:20260524T170000
DTSTAMP:20260424T234539
CREATED:20250526T030706Z
LAST-MODIFIED:20250526T030706Z
UID:1319-1779609600-1779642000@nobeoka-shidankai.com
SUMMARY:令和８年　総会
DESCRIPTION:時刻、会場未定
URL:https://nobeoka-shidankai.com/event/%e4%bb%a4%e5%92%8c%ef%bc%98%e5%b9%b4%e3%80%80%e7%b7%8f%e4%bc%9a/
LOCATION:宮崎県
END:VEVENT
END:VCALENDAR