BEGIN:VCALENDAR
VERSION:2.0
PRODID:-//延岡史談会 - ECPv6.13.1//NONSGML v1.0//EN
CALSCALE:GREGORIAN
METHOD:PUBLISH
X-ORIGINAL-URL:https://nobeoka-shidankai.com
X-WR-CALDESC:延岡史談会 のイベント
REFRESH-INTERVAL;VALUE=DURATION:PT1H
X-Robots-Tag:noindex
X-PUBLISHED-TTL:PT1H
BEGIN:VTIMEZONE
TZID:Asia/Tokyo
BEGIN:STANDARD
TZOFFSETFROM:+0900
TZOFFSETTO:+0900
TZNAME:JST
DTSTART:20240101T000000
END:STANDARD
END:VTIMEZONE
BEGIN:VEVENT
DTSTART;TZID=Asia/Tokyo:20240605T133000
DTEND;TZID=Asia/Tokyo:20240605T150000
DTSTAMP:20260426T015507
CREATED:20240816T072156Z
LAST-MODIFIED:20240816T072156Z
UID:468-1717594200-1717599600@nobeoka-shidankai.com
SUMMARY:西都原考古博物館スタッフ・ガイドさんの延岡研修をご案内、解説
DESCRIPTION:宮崎県地方史研究連絡協議会の構成団体をつうじて依頼を受けた、西都原考古博物館運営支援事業部NPO法人「iさいと」のスタッフ・ガイドさんの延岡研修。午前中は延岡城・内藤記念博物館で研修。午後の延岡城址研修を甲斐会長がご案内、解説しました。\n延岡史談会では、会則にもありますように郷土文化の向上に寄与する事業として、ご依頼があれば延岡の史跡を無料でご案内いたします。
URL:https://nobeoka-shidankai.com/event/%e8%a5%bf%e9%83%bd%e5%8e%9f%e8%80%83%e5%8f%a4%e5%8d%9a%e7%89%a9%e9%a4%a8%e3%82%b9%e3%82%bf%e3%83%83%e3%83%95%e3%83%bb%e3%82%ac%e3%82%a4%e3%83%89%e3%81%95%e3%82%93%e3%81%ae%e5%bb%b6%e5%b2%a1%e7%a0%94/
LOCATION:延岡城跡\, 〒882-0813 宮崎県延岡市東本小路\, 882-0813
END:VEVENT
END:VCALENDAR