BEGIN:VCALENDAR
VERSION:2.0
PRODID:-//延岡史談会 - ECPv6.13.1//NONSGML v1.0//EN
CALSCALE:GREGORIAN
METHOD:PUBLISH
X-ORIGINAL-URL:https://nobeoka-shidankai.com
X-WR-CALDESC:延岡史談会 のイベント
REFRESH-INTERVAL;VALUE=DURATION:PT1H
X-Robots-Tag:noindex
X-PUBLISHED-TTL:PT1H
BEGIN:VTIMEZONE
TZID:Asia/Tokyo
BEGIN:STANDARD
TZOFFSETFROM:+0900
TZOFFSETTO:+0900
TZNAME:JST
DTSTART:20240101T000000
END:STANDARD
END:VTIMEZONE
BEGIN:VEVENT
DTSTART;TZID=Asia/Tokyo:20240922T100000
DTEND;TZID=Asia/Tokyo:20240922T120000
DTSTAMP:20260425T220621
CREATED:20240901T011145Z
LAST-MODIFIED:20240901T011329Z
UID:756-1726999200-1727006400@nobeoka-shidankai.com
SUMMARY:古文書例会
DESCRIPTION:
URL:https://nobeoka-shidankai.com/event/%e5%8f%a4%e6%96%87%e6%9b%b8%e4%be%8b%e4%bc%9a/
LOCATION:延岡市社会教育センター\, 延岡市本小路39番地1\, 延岡市\, 宮崎県\, 882-0812\, 日本
ORGANIZER;CN="%E5%8F%B2%E8%AB%87%E4%BC%9A":MAILTO:purelatitude0728@gmail.com
END:VEVENT
END:VCALENDAR