BEGIN:VCALENDAR
VERSION:2.0
PRODID:-//延岡史談会 - ECPv6.13.1//NONSGML v1.0//EN
CALSCALE:GREGORIAN
METHOD:PUBLISH
X-ORIGINAL-URL:https://nobeoka-shidankai.com
X-WR-CALDESC:延岡史談会 のイベント
REFRESH-INTERVAL;VALUE=DURATION:PT1H
X-Robots-Tag:noindex
X-PUBLISHED-TTL:PT1H
BEGIN:VTIMEZONE
TZID:Asia/Tokyo
BEGIN:STANDARD
TZOFFSETFROM:+0900
TZOFFSETTO:+0900
TZNAME:JST
DTSTART:20240101T000000
END:STANDARD
END:VTIMEZONE
BEGIN:VEVENT
DTSTART;TZID=Asia/Tokyo:20241006T100000
DTEND;TZID=Asia/Tokyo:20241006T120000
DTSTAMP:20260425T204901
CREATED:20240910T080659Z
LAST-MODIFIED:20241130T121117Z
UID:777-1728208800-1728216000@nobeoka-shidankai.com
SUMMARY:第7回役員会　会場:延岡市民協働まちづくりセンター
DESCRIPTION:
URL:https://nobeoka-shidankai.com/event/%e7%ac%ac7%e5%9b%9e%e5%bd%b9%e5%93%a1%e4%bc%9a%e3%80%80%e4%bc%9a%e5%a0%b4%e5%bb%b6%e5%b2%a1%e5%b8%82%e6%b0%91%e5%8d%94%e5%83%8d%e3%81%be%e3%81%a1%e3%81%a5%e3%81%8f%e3%82%8a%e3%82%bb%e3%83%b3%e3%82%bf/
LOCATION:延岡市民協働まちづくりセンター\, 東本小路131番地5\, 延岡市\, 宮崎県\, Japan
END:VEVENT
BEGIN:VEVENT
DTSTART;TZID=Asia/Tokyo:20241006T140000
DTEND;TZID=Asia/Tokyo:20241006T163000
DTSTAMP:20260425T204901
CREATED:20241130T114014Z
LAST-MODIFIED:20241130T114136Z
UID:885-1728223200-1728232200@nobeoka-shidankai.com
SUMMARY:第１回山室元吉作品翻刻目録委員会
DESCRIPTION:
URL:https://nobeoka-shidankai.com/event/%e7%ac%ac%ef%bc%91%e5%9b%9e%e5%b1%b1%e5%ae%a4%e5%85%83%e5%90%89%e4%bd%9c%e5%93%81%e7%bf%bb%e5%88%bb%e7%9b%ae%e9%8c%b2%e5%a7%94%e5%93%a1%e4%bc%9a/
LOCATION:延岡市社会教育センター\, 延岡市本小路39番地1\, 延岡市\, 宮崎県\, 882-0812\, 日本
END:VEVENT
END:VCALENDAR