BEGIN:VCALENDAR
VERSION:2.0
PRODID:-//延岡史談会 - ECPv6.13.1//NONSGML v1.0//EN
CALSCALE:GREGORIAN
METHOD:PUBLISH
X-ORIGINAL-URL:https://nobeoka-shidankai.com
X-WR-CALDESC:延岡史談会 のイベント
REFRESH-INTERVAL;VALUE=DURATION:PT1H
X-Robots-Tag:noindex
X-PUBLISHED-TTL:PT1H
BEGIN:VTIMEZONE
TZID:Asia/Tokyo
BEGIN:STANDARD
TZOFFSETFROM:+0900
TZOFFSETTO:+0900
TZNAME:JST
DTSTART:20240101T000000
END:STANDARD
END:VTIMEZONE
BEGIN:VEVENT
DTSTART;TZID=Asia/Tokyo:20241014T140000
DTEND;TZID=Asia/Tokyo:20241014T160000
DTSTAMP:20260425T204859
CREATED:20240930T071713Z
LAST-MODIFIED:20241130T114202Z
UID:788-1728914400-1728921600@nobeoka-shidankai.com
SUMMARY:第２回山室元吉作品翻刻目録委員会
DESCRIPTION:
URL:https://nobeoka-shidankai.com/event/%e7%ac%ac1%e5%9b%9e%e5%b1%b1%e5%ae%a4%e5%85%83%e5%90%89%e4%bd%9c%e5%93%81%e7%bf%bb%e5%88%bb%e7%9b%ae%e9%8c%b2%e5%a7%94%e5%93%a1%e4%bc%9a/
LOCATION:延岡市民協働まちづくりセンター　３階小会議室②\, 延岡市東本小路131番地5\, 延岡市\, 日本
END:VEVENT
END:VCALENDAR