BEGIN:VCALENDAR
VERSION:2.0
PRODID:-//延岡史談会 - ECPv6.13.1//NONSGML v1.0//EN
CALSCALE:GREGORIAN
METHOD:PUBLISH
X-ORIGINAL-URL:https://nobeoka-shidankai.com
X-WR-CALDESC:延岡史談会 のイベント
REFRESH-INTERVAL;VALUE=DURATION:PT1H
X-Robots-Tag:noindex
X-PUBLISHED-TTL:PT1H
BEGIN:VTIMEZONE
TZID:Asia/Tokyo
BEGIN:STANDARD
TZOFFSETFROM:+0900
TZOFFSETTO:+0900
TZNAME:JST
DTSTART:20240101T000000
END:STANDARD
END:VTIMEZONE
BEGIN:VEVENT
DTSTART;TZID=Asia/Tokyo:20241026T133000
DTEND;TZID=Asia/Tokyo:20241026T160000
DTSTAMP:20260425T204859
CREATED:20241130T114748Z
LAST-MODIFIED:20241130T114831Z
UID:890-1729949400-1729958400@nobeoka-shidankai.com
SUMMARY:在京延岡人会延岡の歴史勉強会
DESCRIPTION:期日10月26日(土)13:30～16:00、 \n明治大学リバティータワー7階1073番教室 \n在京延岡人会の方々が13年前から行っている延岡関係の勉強会の第33回勉強会に会長が講師として招かれ、延岡の歴史の講演会を行いました。 \n第一部｢平安時代の延岡～『今山八幡宮旧記』から見えること～｣ \n第二部｢縣土持氏について｣ \n会場には、縣土持氏第9代土持秋綱の弟で高千穂三田井氏の家臣として岩戸城主となった土持弘綱の子孫である郷土史家西川功氏の子供にあたるご兄妹5名が東京、宮崎の各地から来ておられ、第二部では高千穂土持家、富高(とだか)家、西川家、碓井家の関係についても少し詳しくご紹介しました。
URL:https://nobeoka-shidankai.com/event/%e5%9c%a8%e4%ba%ac%e5%bb%b6%e5%b2%a1%e4%ba%ba%e4%bc%9a%e5%bb%b6%e5%b2%a1%e3%81%ae%e6%ad%b4%e5%8f%b2%e5%8b%89%e5%bc%b7%e4%bc%9a/
LOCATION:明治大学リバティータワー7階1073番教室
END:VEVENT
END:VCALENDAR