BEGIN:VCALENDAR
VERSION:2.0
PRODID:-//延岡史談会 - ECPv6.13.1//NONSGML v1.0//EN
CALSCALE:GREGORIAN
METHOD:PUBLISH
X-WR-CALNAME:延岡史談会
X-ORIGINAL-URL:https://nobeoka-shidankai.com
X-WR-CALDESC:延岡史談会 のイベント
REFRESH-INTERVAL;VALUE=DURATION:PT1H
X-Robots-Tag:noindex
X-PUBLISHED-TTL:PT1H
BEGIN:VTIMEZONE
TZID:Asia/Tokyo
BEGIN:STANDARD
TZOFFSETFROM:+0900
TZOFFSETTO:+0900
TZNAME:JST
DTSTART:20240101T000000
END:STANDARD
END:VTIMEZONE
BEGIN:VEVENT
DTSTART;TZID=Asia/Tokyo:20241103T120000
DTEND;TZID=Asia/Tokyo:20241103T150000
DTSTAMP:20260425T194251
CREATED:20240930T072639Z
LAST-MODIFIED:20241130T113402Z
UID:801-1730635200-1730646000@nobeoka-shidankai.com
SUMMARY:カルチャーゾーンフェスタ
DESCRIPTION:カルチャーゾーンフェスタで開催される延岡市文化財・市史編纂課の市民対象襖文書剥離作業体験会の補助 \nカルチャーゾーンフェスタ2024(カルチャープラザ／延岡市社会教育センター研修室５) \n毎年、延岡市社会教育センター・延岡市立図書館、延岡城・内藤記念博物館が立地する｢延岡市カルチャーゾーン｣を会場に文化の日に開催されている「カルチャーゾーンフェスタ」。 \nカルチャープラザ２階の文化財・市史編纂課ブースでは、図師兼弐家から寄託された資料が展示され、まが玉づくり体験も行われ多くの子供たちで賑わっていました。延岡史談会は、午後から開催された文化財・市史編纂課主催の古文書ワークショップ｢襖をはがして地域の歴史を知ろう｣ \nの下張り文書はがし実演体験のお手伝いをしました。今回も、あじ、さばなどの海産物が記録された漁業の町北浦町に相応しい近代の海産物取引記録横帳が出てきました。 \n 
URL:https://nobeoka-shidankai.com/event/%e3%82%ab%e3%83%ab%e3%83%81%e3%83%a3%e3%83%bc%e3%82%be%e3%83%bc%e3%83%b3%e3%83%95%e3%82%a7%e3%82%b9%e3%82%bf/
LOCATION:カルチャープラザのべおか2階\, 宮崎県\, 延岡市\, 日本
END:VEVENT
END:VCALENDAR