BEGIN:VCALENDAR
VERSION:2.0
PRODID:-//延岡史談会 - ECPv6.13.1//NONSGML v1.0//EN
CALSCALE:GREGORIAN
METHOD:PUBLISH
X-WR-CALNAME:延岡史談会
X-ORIGINAL-URL:https://nobeoka-shidankai.com
X-WR-CALDESC:延岡史談会 のイベント
REFRESH-INTERVAL;VALUE=DURATION:PT1H
X-Robots-Tag:noindex
X-PUBLISHED-TTL:PT1H
BEGIN:VTIMEZONE
TZID:Asia/Tokyo
BEGIN:STANDARD
TZOFFSETFROM:+0900
TZOFFSETTO:+0900
TZNAME:JST
DTSTART:20240101T000000
END:STANDARD
END:VTIMEZONE
BEGIN:VEVENT
DTSTART;TZID=Asia/Tokyo:20241104T100000
DTEND;TZID=Asia/Tokyo:20241104T110000
DTSTAMP:20260425T194254
CREATED:20241101T043749Z
LAST-MODIFIED:20241130T103616Z
UID:837-1730714400-1730718000@nobeoka-shidankai.com
SUMMARY:令和６年度　延岡さるきブラアガタ第４回実行委員会
DESCRIPTION:１，開会 \n２，会長挨拶 \n３，協議\n（１）コースについて（補足：会長）\n①川中コース\n②川北コース\n（２）実施タイムスケジュールの再確認（事務局長）\n9:00～9:20　準備\n9:20～9:40　受付\n9:40～10:10　オリエンテーション\n10:00～11:40　活動\n11:40～11:50　事後アンケート等\n11:50～　　　　解散 \n（３）ブラアガタ実施に向けた準備進捗状況（事務局長）\n〇１１月１日（金）　現在での応募数\n〇募集期間の延長について（すでにとった対応）\n〇今後の応募数の読みとそれを見越した役割分担案\n〇活動地区当該当口調への回覧板対応（済：１１月回覧板）\n〇道路使用許可願（延岡警察署へ）、提出文書作成完了　１１月８日提出予定\n〇腕章、ビブス等の発注について\n〇応募者へのコースアンケートの発出、１１月５日より予定通り\n応募延長後の応募者で、１０日以降に応募してきた場合は電話対応\n〇次回の実行委員会で、応募状況の確認と実地的なコース確認を実施 \n４，その他・連絡事項\n次回１１月１０日（日）　10:00～　市社会教育センター　研修室４（市立図書館横）
URL:https://nobeoka-shidankai.com/event/%e3%83%96%e3%83%a9%e3%82%a2%e3%82%ac%e3%82%bf%e5%ae%9f%e8%a1%8c%e5%a7%94%e5%93%a1%e4%bc%9a%e5%85%bc%e5%bd%b9%e5%93%a1%e4%bc%9a/
LOCATION:延岡市民協働まちづくりセンター\, 東本小路131番地5\, 延岡市\, 宮崎県\, Japan
ORGANIZER;CN="%E5%8F%B2%E8%AB%87%E4%BC%9A":MAILTO:purelatitude0728@gmail.com
END:VEVENT
BEGIN:VEVENT
DTSTART;TZID=Asia/Tokyo:20241104T110000
DTEND;TZID=Asia/Tokyo:20241104T120000
DTSTAMP:20260425T194254
CREATED:20241104T020240Z
LAST-MODIFIED:20241130T121042Z
UID:845-1730718000-1730721600@nobeoka-shidankai.com
SUMMARY:令和６年度　延岡史談会　第８回役員会（１１月）
DESCRIPTION:
URL:https://nobeoka-shidankai.com/event/%e4%bb%a4%e5%92%8c%ef%bc%96%e5%b9%b4%e5%ba%a6%e3%80%80%e5%bb%b6%e5%b2%a1%e5%8f%b2%e8%ab%87%e4%bc%9a%e3%80%80%e7%ac%ac%ef%bc%98%e5%9b%9e%e5%bd%b9%e5%93%a1%e4%bc%9a%ef%bc%88%ef%bc%91%ef%bc%91%e6%9c%88/
LOCATION:延岡市民協働まちづくりセンター　３階小会議室②\, 延岡市東本小路131番地5\, 延岡市\, 日本
ORGANIZER;CN="%E5%8F%B2%E8%AB%87%E4%BC%9A":MAILTO:purelatitude0728@gmail.com
END:VEVENT
END:VCALENDAR