BEGIN:VCALENDAR
VERSION:2.0
PRODID:-//延岡史談会 - ECPv6.13.1//NONSGML v1.0//EN
CALSCALE:GREGORIAN
METHOD:PUBLISH
X-ORIGINAL-URL:https://nobeoka-shidankai.com
X-WR-CALDESC:延岡史談会 のイベント
REFRESH-INTERVAL;VALUE=DURATION:PT1H
X-Robots-Tag:noindex
X-PUBLISHED-TTL:PT1H
BEGIN:VTIMEZONE
TZID:Asia/Tokyo
BEGIN:STANDARD
TZOFFSETFROM:+0900
TZOFFSETTO:+0900
TZNAME:JST
DTSTART:20240101T000000
END:STANDARD
END:VTIMEZONE
BEGIN:VEVENT
DTSTART;TZID=Asia/Tokyo:20241110T100000
DTEND;TZID=Asia/Tokyo:20241110T120000
DTSTAMP:20260425T194335
CREATED:20241104T014735Z
LAST-MODIFIED:20241130T103640Z
UID:841-1731232800-1731240000@nobeoka-shidankai.com
SUMMARY:令和６年度　延岡さるきブラアガタ第５回実行委員会
DESCRIPTION:
URL:https://nobeoka-shidankai.com/event/%e3%83%96%e3%83%a9%e3%82%a2%e3%82%ac%e3%82%bf%e7%ac%ac%ef%bc%95%e5%9b%9e%e5%ae%9f%e8%a1%8c%e5%a7%94%e5%93%a1%e4%bc%9a/
LOCATION:延岡市社会教育センター3階研修室4\, 延岡市本小路39番地1\, 延岡市\, 日本
ORGANIZER;CN="%E5%8F%B2%E8%AB%87%E4%BC%9A":MAILTO:purelatitude0728@gmail.com
END:VEVENT
END:VCALENDAR