BEGIN:VCALENDAR
VERSION:2.0
PRODID:-//延岡史談会 - ECPv6.13.1//NONSGML v1.0//EN
CALSCALE:GREGORIAN
METHOD:PUBLISH
X-ORIGINAL-URL:https://nobeoka-shidankai.com
X-WR-CALDESC:延岡史談会 のイベント
REFRESH-INTERVAL;VALUE=DURATION:PT1H
X-Robots-Tag:noindex
X-PUBLISHED-TTL:PT1H
BEGIN:VTIMEZONE
TZID:Asia/Tokyo
BEGIN:STANDARD
TZOFFSETFROM:+0900
TZOFFSETTO:+0900
TZNAME:JST
DTSTART:20240101T000000
END:STANDARD
END:VTIMEZONE
BEGIN:VEVENT
DTSTART;TZID=Asia/Tokyo:20241113T100000
DTEND;TZID=Asia/Tokyo:20241113T150000
DTSTAMP:20260425T194335
CREATED:20241208T140544Z
LAST-MODIFIED:20241208T140544Z
UID:934-1731492000-1731510000@nobeoka-shidankai.com
SUMMARY:令和６年度宮崎県地方史研究連絡協議会秋季研究発表日南大会
DESCRIPTION:日　時：11月13日(水)10:00-15:00\n会　場：飫肥城下町、小村寿太郎記念館\n宮崎県地方史研究連絡協議会、略して宮史連の年次大会で日南市へ。延岡史談会からは11名が参加。車3台に分かれ各車8:00に延岡市を出発、東九州道経由で10:15前後に飫肥城駐車場で現地集合しました。午前中、飫肥城、飫肥城資料館などを各団体毎に探索。南九州館屋敷型城郭の広大さを改めて実感。児玉邸を改装した「ギャラリーこだま」でかつお炙り重の昼食を摂り、大手門前の「おび天 蔵」でデザート。午後は小村寿太郎記念館にて日南市教育委員会長友貞治氏の講演「小村寿太郎と宮崎県」、同じく佐藤智文氏による企画展解説を受けて外務省外交史料館との共催「小村寿太郎とポーツマス条約」展を観覧。二度と見る事はないであろう、外務省外交史料館所蔵の日露戦争講和条約「ポーツマス条約」の調印書とロシア側批准書の原本を見ることができました。調印書にかかれた日本全権Jutarou Komuraとロシア全権Serge Witteの本物のサインに感慨一入でした。来年はいよいよ延岡大会です。
URL:https://nobeoka-shidankai.com/event/%e4%bb%a4%e5%92%8c%ef%bc%96%e5%b9%b4%e5%ba%a6%e5%ae%ae%e5%b4%8e%e7%9c%8c%e5%9c%b0%e6%96%b9%e5%8f%b2%e7%a0%94%e7%a9%b6%e9%80%a3%e7%b5%a1%e5%8d%94%e8%ad%b0%e4%bc%9a%e7%a7%8b%e5%ad%a3%e7%a0%94%e7%a9%b6/
LOCATION:飫肥城下町、小村寿太郎記念館\, 飫肥４丁目２−２０−１\, 日南市\, 宮崎県\, 889-2535\, Japan
END:VEVENT
END:VCALENDAR