BEGIN:VCALENDAR
VERSION:2.0
PRODID:-//延岡史談会 - ECPv6.13.1//NONSGML v1.0//EN
CALSCALE:GREGORIAN
METHOD:PUBLISH
X-WR-CALNAME:延岡史談会
X-ORIGINAL-URL:https://nobeoka-shidankai.com
X-WR-CALDESC:延岡史談会 のイベント
REFRESH-INTERVAL;VALUE=DURATION:PT1H
X-Robots-Tag:noindex
X-PUBLISHED-TTL:PT1H
BEGIN:VTIMEZONE
TZID:Asia/Tokyo
BEGIN:STANDARD
TZOFFSETFROM:+0900
TZOFFSETTO:+0900
TZNAME:JST
DTSTART:20240101T000000
END:STANDARD
END:VTIMEZONE
BEGIN:VEVENT
DTSTART;TZID=Asia/Tokyo:20241124T100000
DTEND;TZID=Asia/Tokyo:20241124T120000
DTSTAMP:20260425T194251
CREATED:20241114T144053Z
LAST-MODIFIED:20241130T103709Z
UID:854-1732442400-1732449600@nobeoka-shidankai.com
SUMMARY:令和６年度　延岡さるきブラアガタ第６回実行委員会
DESCRIPTION:会議室２
URL:https://nobeoka-shidankai.com/event/%e4%bb%a4%e5%92%8c%ef%bc%96%e5%b9%b4%e5%ba%a6%e3%80%80%e5%bb%b6%e5%b2%a1%e3%81%95%e3%82%8b%e3%81%8d%e3%83%96%e3%83%a9%e3%82%a2%e3%82%ac%e3%82%bf%e7%ac%ac%ef%bc%96%e5%9b%9e%e5%ae%9f%e8%a1%8c%e5%a7%94/
LOCATION:延岡市社会教育センター\, 延岡市本小路39番地1\, 延岡市\, 宮崎県\, 882-0812\, 日本
ORGANIZER;CN="%E5%8F%B2%E8%AB%87%E4%BC%9A":MAILTO:purelatitude0728@gmail.com
END:VEVENT
END:VCALENDAR