BEGIN:VCALENDAR
VERSION:2.0
PRODID:-//延岡史談会 - ECPv6.13.1//NONSGML v1.0//EN
CALSCALE:GREGORIAN
METHOD:PUBLISH
X-WR-CALNAME:延岡史談会
X-ORIGINAL-URL:https://nobeoka-shidankai.com
X-WR-CALDESC:延岡史談会 のイベント
REFRESH-INTERVAL;VALUE=DURATION:PT1H
X-Robots-Tag:noindex
X-PUBLISHED-TTL:PT1H
BEGIN:VTIMEZONE
TZID:Asia/Tokyo
BEGIN:STANDARD
TZOFFSETFROM:+0900
TZOFFSETTO:+0900
TZNAME:JST
DTSTART:20250101T000000
END:STANDARD
END:VTIMEZONE
BEGIN:VEVENT
DTSTART;TZID=Asia/Tokyo:20251206T100000
DTEND;TZID=Asia/Tokyo:20251206T113000
DTSTAMP:20260425T043405
CREATED:20251102T123903Z
LAST-MODIFIED:20251102T123903Z
UID:1527-1765015200-1765020600@nobeoka-shidankai.com
SUMMARY:ブラアガタ最終実行委員会
DESCRIPTION:社会教育センター（未定）
URL:https://nobeoka-shidankai.com/event/%e3%83%96%e3%83%a9%e3%82%a2%e3%82%ac%e3%82%bf%e6%9c%80%e7%b5%82%e5%ae%9f%e8%a1%8c%e5%a7%94%e5%93%a1%e4%bc%9a/
LOCATION:社会教育センター（未定）
END:VEVENT
END:VCALENDAR