BEGIN:VCALENDAR
VERSION:2.0
PRODID:-//延岡史談会 - ECPv6.13.1//NONSGML v1.0//EN
CALSCALE:GREGORIAN
METHOD:PUBLISH
X-ORIGINAL-URL:https://nobeoka-shidankai.com
X-WR-CALDESC:延岡史談会 のイベント
REFRESH-INTERVAL;VALUE=DURATION:PT1H
X-Robots-Tag:noindex
X-PUBLISHED-TTL:PT1H
BEGIN:VTIMEZONE
TZID:Asia/Tokyo
BEGIN:STANDARD
TZOFFSETFROM:+0900
TZOFFSETTO:+0900
TZNAME:JST
DTSTART:20260101T000000
END:STANDARD
END:VTIMEZONE
BEGIN:VEVENT
DTSTART;TZID=Asia/Tokyo:20260301T100000
DTEND;TZID=Asia/Tokyo:20260301T113000
DTSTAMP:20260425T005756
CREATED:20251220T081455Z
LAST-MODIFIED:20251220T081455Z
UID:1591-1772359200-1772364600@nobeoka-shidankai.com
SUMMARY:第11回　定例役員会
DESCRIPTION:
URL:https://nobeoka-shidankai.com/event/%e7%ac%ac11%e5%9b%9e%e3%80%80%e5%ae%9a%e4%be%8b%e5%bd%b9%e5%93%a1%e4%bc%9a/
LOCATION:延岡市民協働まちづくりセンター\, 東本小路131番地5\, 延岡市\, 宮崎県\, Japan
END:VEVENT
END:VCALENDAR